BEGIN:VCALENDAR
VERSION:2.0
PRODID:-//Fast Times, Inc. - ECPv6.15.12.2//NONSGML v1.0//EN
CALSCALE:GREGORIAN
METHOD:PUBLISH
X-ORIGINAL-URL:https://fasttimesagility.com
X-WR-CALDESC:Events for Fast Times, Inc.
REFRESH-INTERVAL;VALUE=DURATION:PT1H
X-Robots-Tag:noindex
X-PUBLISHED-TTL:PT1H
BEGIN:VTIMEZONE
TZID:America/New_York
BEGIN:DAYLIGHT
TZOFFSETFROM:-0500
TZOFFSETTO:-0400
TZNAME:EDT
DTSTART:20250309T070000
END:DAYLIGHT
BEGIN:STANDARD
TZOFFSETFROM:-0400
TZOFFSETTO:-0500
TZNAME:EST
DTSTART:20251102T060000
END:STANDARD
BEGIN:DAYLIGHT
TZOFFSETFROM:-0500
TZOFFSETTO:-0400
TZNAME:EDT
DTSTART:20260308T070000
END:DAYLIGHT
BEGIN:STANDARD
TZOFFSETFROM:-0400
TZOFFSETTO:-0500
TZNAME:EST
DTSTART:20261101T060000
END:STANDARD
BEGIN:DAYLIGHT
TZOFFSETFROM:-0500
TZOFFSETTO:-0400
TZNAME:EDT
DTSTART:20270314T070000
END:DAYLIGHT
BEGIN:STANDARD
TZOFFSETFROM:-0400
TZOFFSETTO:-0500
TZNAME:EST
DTSTART:20271107T060000
END:STANDARD
END:VTIMEZONE
BEGIN:VEVENT
DTSTART;VALUE=DATE:20260711
DTEND;VALUE=DATE:20260713
DTSTAMP:20260421T061613
CREATED:20250922T142146Z
LAST-MODIFIED:20260413T125507Z
UID:10000472-1783728000-1783900799@fasttimesagility.com
SUMMARY:Princeton Dog Training Club
DESCRIPTION:2026 Princeton July OB-RLY premium\n\n\n\nENTRIES OPEN:  Wednesday\, June 3\, 2026 at 8 AM\nENTRIES CLOSE:   Wednesday\, June 24\, 2026 at 6 PM\nLIMITS:  8 judging hours per event.\nTRIAL SECRETARY:  Fast Times\, INC\, 3 Sherman CT\, Manalapan\, NJ 07726 Fax 1-888-521-1706\nClick here to send us an email \nAll checks should be made payable to Fast Times. \nWe WILL be accepting emailed/faxed entries on opening day starting at 8am.  \nTo use the Fax/Email option\, payments must be made via the PayPal link below\nFax or Email entry steps to follow:\nStep 1: email your completed entry form to trialsec@fasttimesagility.com or fax your completed entry form to 1-888-521-1706.\nPlease click here for a fill-able PDF entry form for this trial\nStep 2: Use the link below to pay via PayPal (link will be posted on opening day).  There is a $2.50 PayPal non-refundable processing fee per entry using these methods. This fee is already included in the entry fee amount when you add your runs to your cart. PayPal payments will only be accepted if the link we provide on the trial webpage is used to pay your entry fees. Direct payments will be rejected at the payer’s expense.\nStep 3: Be sure to include the owner’s last name and dog’s registration number when making your PayPal payment so we can match your payment to your entry. \nPlease remember\, payment must be received at the time of entry with all entry methods. \nBoth entry & payment MUST be received before an entry can be added to the queue to be processed. \n\n\n\nPayPal link below.\nThere is an arrow to the right of the prices that will open a drop down of options.\nIf using a smart phone\, tap in the price box to see the list of options.
URL:https://fasttimesagility.com/event/princeton-dtc-july-ob-rly-2026/
LOCATION:Princeton Dog Training Club Obedience Building\, 219 Blackhorse Lane\, North Brunswick\, NJ\, 08902\, United States
CATEGORIES:2026 Obedience/Rally Event,Upcoming Events
ATTACH;FMTTYPE=image/jpeg:https://fasttimesagility.com/wp-content/uploads/2021/11/pdtc-logo_orig.jpg
END:VEVENT
BEGIN:VEVENT
DTSTART;VALUE=DATE:20261212
DTEND;VALUE=DATE:20261214
DTSTAMP:20260421T061613
CREATED:20250922T141301Z
LAST-MODIFIED:20260413T161228Z
UID:10000513-1797033600-1797206399@fasttimesagility.com
SUMMARY:Princeton Dog Training Club
DESCRIPTION:ENTRIES OPEN:  Wednesday\, October 28\, 2026 at 8 AM\nENTRIES CLOSE:   Wednesday\, November 25\, 2026 at 6 PM\nLIMITS:  7 judging hours for Obedience and 50 Rally runs per trial.\nTRIAL SECRETARY:  Fast Times\, INC\, 3 Sherman CT\, Manalapan\, NJ 07726 Fax 1-888-521-1706\nClick here to send us an email \nIf mailing an entry & check\, checks should be made payable to Fast Times.\nTo use the Fax/Email option\, payments must be made via PayPal using the link below starting at 8 am on opening day and not before! \nFax or Email entry steps to follow:\nStep 1: email your completed entry form to trialsec@fasttimesagility.com or fax your completed entry form to 1-888-521-1706.\nPlease click here for a fill-able PDF form for this trial\nStep 2: Use the link below to pay via PayPal (link will be posted on opening day).  There is a $2.50 PayPal non-refundable processing fee per entry using this method. This fee is already included in the entry fee amount when you add your runs to your cart.\nStep 3: Be sure to include the owner’s last name and dog’s registration number when making your PayPal payment so we can match your payment to your entry. \nPlease remember\, payment must be received at the time of entry with all entry methods.
URL:https://fasttimesagility.com/event/princeton-dec-ob-rly-2026/
LOCATION:Princeton Dog Training Club Obedience Building\, 219 Blackhorse Lane\, North Brunswick\, NJ\, 08902\, United States
CATEGORIES:2026 Obedience/Rally Event,Upcoming Events
ATTACH;FMTTYPE=image/jpeg:https://fasttimesagility.com/wp-content/uploads/2021/11/pdtc-logo_orig.jpg
END:VEVENT
END:VCALENDAR