BEGIN:VCALENDAR
VERSION:2.0
PRODID:-//Fast Times, Inc. - ECPv6.15.12.2//NONSGML v1.0//EN
CALSCALE:GREGORIAN
METHOD:PUBLISH
X-ORIGINAL-URL:https://fasttimesagility.com
X-WR-CALDESC:Events for Fast Times, Inc.
REFRESH-INTERVAL;VALUE=DURATION:PT1H
X-Robots-Tag:noindex
X-PUBLISHED-TTL:PT1H
BEGIN:VTIMEZONE
TZID:UTC
BEGIN:STANDARD
TZOFFSETFROM:+0000
TZOFFSETTO:+0000
TZNAME:UTC
DTSTART:20200101T000000
END:STANDARD
END:VTIMEZONE
BEGIN:VTIMEZONE
TZID:America/New_York
BEGIN:DAYLIGHT
TZOFFSETFROM:-0500
TZOFFSETTO:-0400
TZNAME:EDT
DTSTART:20220313T070000
END:DAYLIGHT
BEGIN:STANDARD
TZOFFSETFROM:-0400
TZOFFSETTO:-0500
TZNAME:EST
DTSTART:20221106T060000
END:STANDARD
BEGIN:DAYLIGHT
TZOFFSETFROM:-0500
TZOFFSETTO:-0400
TZNAME:EDT
DTSTART:20230312T070000
END:DAYLIGHT
BEGIN:STANDARD
TZOFFSETFROM:-0400
TZOFFSETTO:-0500
TZNAME:EST
DTSTART:20231105T060000
END:STANDARD
BEGIN:DAYLIGHT
TZOFFSETFROM:-0500
TZOFFSETTO:-0400
TZNAME:EDT
DTSTART:20240310T070000
END:DAYLIGHT
BEGIN:STANDARD
TZOFFSETFROM:-0400
TZOFFSETTO:-0500
TZNAME:EST
DTSTART:20241103T060000
END:STANDARD
END:VTIMEZONE
BEGIN:VEVENT
DTSTART;VALUE=DATE:20240510
DTEND;VALUE=DATE:20240513
DTSTAMP:20260425T123107
CREATED:20231113T015443Z
LAST-MODIFIED:20240515T051239Z
UID:10000273-1715299200-1715558399@fasttimesagility.com
SUMMARY:Wilmington Kennel Club
DESCRIPTION:2024 WILMINGTON FINAL TRIAL CONF LETTER SAMPLE\n\n\nPlease use this Google Docs link to Volunteer:\n http://tinyurl.com/2024WilmingtonWorkers\n\n\nWilmington total running order\n\n\nWilmington Friday maps\nWilmington Saturday maps\nWilmington Sunday maps (for real this time)\n\n\n\nENTRIES OPEN:  Tuesday\, March 26\, 2024 at 8 AM\nENTRIES CLOSE: Tuesday\, April 23\, 2024 at 6 PM\nLIMIT:  330 runs each day\nTRIAL CHAIRPERSON: Arlene Hitchens email: treasurerforwkc@gmail.com\nTRIAL SECRETARY:  Fast Times\, INC\, 3 Sherman CT\, Manalapan\, NJ 07726\nFax 1-888-521-1706 Click here to send us an email \n\n\n\n2024 Wilmington Premium\n\n\nFill able entry forms in Word or PDF. These forms can be filled out on your computer. \n\n\n2024 Wilmington Word entry form\n2024 Wilmington PDF entry form\n\n\n\nStarting 24 hours after this trial opens we will be accepting emailed and faxed entries with payment made using the PayPal link below. \nIf you are using the below PayPal option to pay your fees\, please email or fax your completed entry form once you have made your payment. \nIf you prefer to mail a paper entry\, please email us and let us know it was put in the mail.\nIf you need a blank entry form to fill out\, use one of the fill-able forms above. \nEmailed or faxed entries will not be accepted on opening day of any agility trial.\nALL PayPal fees are non refundable and are the exhibitors responsibility. \n  \n\n\n                \n                        \n                            Wilmington KC 24'\n                             \n                        \n                        Dog Name(Required)AKC #(Required)Owner's Name(Required)Friday\, May 10\, 2024Choose One1 Run - Wilmington 5/10/242 Runs - Wilmington 5/10/243 Runs - Wilmington 5/10/244 Runs - Wilmington 5/10/245 Runs - Wilmington 5/10/24Just 1 Additional Run - Wilmington 5/10/24Saturday\, May 11\, 2024Choose One1 Run - Wilmington 5/11/242 Runs - Wilmington 5/11/243 Runs - Wilmington 5/11/244 Runs - Wilmington 5/11/24Just 1 Additional Run - Wilmington 5/11/24Sunday\, May 12\, 2024Choose One1 Run - Wilmington 5/12/242 Runs - Wilmington 5/12/243 Runs - Wilmington 5/12/244 Runs - Wilmington 5/12/24Just 1 Additional Run - Wilmington 5/12/24Total\n							\n						Processing Fee\n					\n				Pay Pal Fees\n            \n                $0.00\n                \n            Payment MethodPayPal Checkout\n                                    MasterCardVisaSupported Credit Cards: MasterCard\, Visa\n                                    \n                                    Card Number\n                                 \n                                            \n                                                \n                                                Expiration Date\n                                            \n                                                \n                                                 \n                                                Security Code\n                                             \n                                        \n                                            \n                                            Cardholder Name
URL:https://fasttimesagility.com/event/wilmington-kc-2023-2/
LOCATION:Get Rev’d Agility\, Elkton\, MD\, 312 Middle Rd\, Elkton\, MD\, 21921\, United States
CATEGORIES:2024 AKC Agility Trial
ATTACH;FMTTYPE=image/webp:https://fasttimesagility.com/wp-content/uploads/2021/12/WilmingtonKC-LogoColor-1024x762-200x149-1.webp
END:VEVENT
BEGIN:VEVENT
DTSTART;VALUE=DATE:20230512
DTEND;VALUE=DATE:20230515
DTSTAMP:20260425T123107
CREATED:20221028T175846Z
LAST-MODIFIED:20230518T012253Z
UID:10000176-1683849600-1684108799@fasttimesagility.com
SUMMARY:Wilmington Kennel Club
DESCRIPTION:2023 WILMINGTON FINAL TRIAL CONF LETTER SAMPLE\n\n\nPlease use Google Docs link to Volunteer:\n http://tinyurl.com/2023WilmingtonWorkers\n\n\nWILMINGTON total running order\n\n\n\nWilmington KC Friday course maps\nWilmington KC Saturday course maps\nWilmington KC Sunday course maps\n\n\n\n\nENTRIES OPEN:  Tuesday\, March 28\, 2023 at 8 AM\nENTRIES CLOSE: Tuesday\, April 25\, 2023 at 6 PM\nLIMIT:  330 runs each day\nTRIAL CHAIRPERSON: Sonni Waldecker email: S_waldecker@comcast.net\nTRIAL SECRETARY:  Fast Times\, INC\, 3 Sherman CT\, Manalapan\, NJ 07726\nFax 1-888-521-1706 Click here to send us an email \n\n\n\nBoth premiums contain fill-able entry forms. Please fill out your entry form on the computer before printing it out so all of the information is easily readable. \n\n\n\nrevised 2023 Wilmington Spring Premium.doc\nrevised 2023 Wilmington Spring Premium.pdf\n\n\n\nStarting 24 hours after this trial opens we will be accepting emailed and faxed entries with payment made using the PayPal link below. \nIf you are using the below PayPal option to pay your fees\, please email or fax your completed entry form once you have made your payment. \nIf you prefer to mail a paper entry\, please email us and let us know it was put in the mail.\nIf you need a blank PDF form to fill out\, here is the link:\nPlease click here for a fill-able PDF entry form for this trial\n \nEmailed or faxed entries will not be accepted on opening day of any trial.\nALL PayPal fees are non refundable and are the exhibitors responsibility. \n\n                \n                        \n                            Wilmington Kennel Club\n                             \n                        \n                        Dog Name(Required)AKC #(Required)Owner's Name(Required)Friday\, May 12\, 2023Choose One1 Run - WKC 5/12/232 Runs - WKC 5/12/233 Runs - WKC 5/12/234 Runs - WKC 5/12/235 Runs - WKC 5/12/23Just 1 Additional Run - WKC 5/12/23Saturday\, May 13\, 2023Choose One1 Run - WKC 5/13/232 Runs - WKC 5/13/233 Runs - WKC 5/13/234 Runs - WKC 5/13/23Just 1 Additional Run - WKC 5/13/23Sunday\, May 14\, 2023Choose One1 Run - WKC 5/14/232 Runs - WKC 5/14/233 Runs - WKC 5/14/234 Runs - WKC 5/14/23Just 1 Additional Run - WKC 5/14/23Total\n							\n						Processing Fee\n					\n				Pay Pal Fees\n            \n                $0.00\n                \n            Payment MethodPayPal Checkout\n                                    MasterCardVisaSupported Credit Cards: MasterCard\, Visa\n                                    \n                                    Card Number\n                                 \n                                            \n                                                \n                                                Expiration Date\n                                            \n                                                \n                                                 \n                                                Security Code\n                                             \n                                        \n                                            \n                                            Cardholder Name
URL:https://fasttimesagility.com/event/wilmington-kc-2023/
LOCATION:Get Rev’d Agility\, Elkton\, MD\, 312 Middle Rd\, Elkton\, MD\, 21921\, United States
CATEGORIES:2023 AKC Agility Trial
ATTACH;FMTTYPE=image/webp:https://fasttimesagility.com/wp-content/uploads/2021/12/WilmingtonKC-LogoColor-1024x762-200x149-1.webp
END:VEVENT
BEGIN:VEVENT
DTSTART;VALUE=DATE:20230424
DTEND;VALUE=DATE:20230425
DTSTAMP:20260425T123107
CREATED:20230106T172136Z
LAST-MODIFIED:20230427T042118Z
UID:10000231-1682294400-1682380799@fasttimesagility.com
SUMMARY:Tibetan Terrier Club of America\, Inc
DESCRIPTION:2023 TTCA SPECIALTY FINAL TRIAL CONF LETTER SAMPLE\n\n\nTTCA total running order\n\n\n\nTTCA Specialty course maps\n\n\n\n\nENTRIES OPEN:  Tuesday\, March 7\, 2023 at 8 AM\nENTRIES CLOSE: Tuesday\, April 4\, 2023 at 6 PM\nLIMIT:  330 runs – Tibetan Terriers ONLY\nTRIAL CHAIRPERSON: Flossie Barczewski email: flossiebar@comcast.net \nTRIAL SECRETARY:  Fast Times\, INC\, 3 Sherman CT\, Manalapan\, NJ 07726\nFax 1-888-521-1706 Click here to send us an email\n \n\n\n\nBoth forms contain a fillable entry form. Please fill out the form on your computer before printing it out so that all info is easy for us to read.\n\n\n\nrevised 2023 TTCA Specialty premium.doc\nrevised 2023 TTCA Specialty premium.pdf\n\n\n\nStarting 24 hours after this trial opens we will be accepting emailed and faxed entries with payment made using the PayPal link below. \nIf you are using the below PayPal option to pay your fees\, please email or fax your completed entry form once you have made your payment. \nIf you prefer to mail a paper entry\, please email us and let us know it was put in the mail.\nIf you need a blank PDF form to fill out\, here is the link:\nPlease click here for a fill able PDF entry form for this trial\n\nEmailed or faxed entries will not be accepted on opening day of any trial.\nALL PayPal fees are non refundable and are the exhibitors responsibility. \n\n                \n                        \n                            The Tibetan Terrier Club of America\n                             \n                        \n                        Dog Name(Required)AKC #(Required)Owners Name(Required)Monday\, April 24\, 2023Choose One1 Run TTCA 4/242 Runs TTCA 4/243 Runs TTCA 4/24Just 1 additional run TTCA 4/24Total\n							\n						Processing Fees\n					\n				Pay Pal Fees\n            \n                $0.00\n                \n            Payment MethodPayPal Checkout\n                                    MasterCardVisaSupported Credit Cards: MasterCard\, Visa\n                                    \n                                    Card Number\n                                 \n                                            \n                                                \n                                                Expiration Date\n                                            \n                                                \n                                                 \n                                                Security Code\n                                             \n                                        \n                                            \n                                            Cardholder Name
URL:https://fasttimesagility.com/event/ttca-specialty-2023/
LOCATION:Get Rev’d Agility\, Elkton\, MD\, 312 Middle Rd\, Elkton\, MD\, 21921\, United States
CATEGORIES:2023 AKC Agility Trial
ATTACH;FMTTYPE=image/jpeg:https://fasttimesagility.com/wp-content/uploads/2023/01/TTCA2023LogoforWebSmall.jpg
END:VEVENT
BEGIN:VEVENT
DTSTART;VALUE=DATE:20220513
DTEND;VALUE=DATE:20220516
DTSTAMP:20260425T123107
CREATED:20211220T225258Z
LAST-MODIFIED:20220518T192032Z
UID:10000035-1652400000-1652659199@fasttimesagility.com
SUMMARY:Wilmington Kennel Club
DESCRIPTION:2022 WILMINGTON FINAL TRIAL CONF LETTER SAMPLE\n\n\nPlease use Google Docs link to Volunteer:\n http://tinyurl.com/2022WilmingtonWorkers\n\n\n\ntotal running order\n\n\n\nWilmington Friday course maps\nWilmington Saturday course maps\nWilmington Sunday course maps\n\n\n\n\nENTRIES OPEN:  Tuesday\, March 29\, 2022 at 8 AM\nENTRIES CLOSE: Tuesday\, April 26\, 2022 at 6 PM\nLIMIT:  330 runs each day\nTRIAL CHAIRPERSON: Flossie Barczewski email: flossiebar@comcast.net \nTRIAL SECRETARY:  Fast Times\, INC\, 3 Sherman CT\, Manalapan\, NJ 07726\nFax 1-888-521-1706 Click here to send us an email \n\n\n\n2022 Wilmington Spring Premium-doc\n2022 Wilmington Spring Premium-pdf
URL:https://fasttimesagility.com/event/staten-island-companion-dog-training-club-4-2/
LOCATION:Get Rev’d Agility\, Elkton\, MD\, 312 Middle Rd\, Elkton\, MD\, 21921\, United States
CATEGORIES:2022 AKC Agility Trial
ATTACH;FMTTYPE=image/webp:https://fasttimesagility.com/wp-content/uploads/2021/12/WilmingtonKC-LogoColor-1024x762-200x149-1.webp
END:VEVENT
BEGIN:VEVENT
DTSTART;VALUE=DATE:20210924
DTEND;VALUE=DATE:20210925
DTSTAMP:20260425T123107
CREATED:20210726T234434Z
LAST-MODIFIED:20220518T194016Z
UID:10000006-1632441600-1632527999@fasttimesagility.com
SUMMARY:Gordon Setter Club of America
DESCRIPTION:ENTRIES OPEN:  TUES.\, August 10\, 2021 at 8 AM\nENTRIES CLOSE:   TUES.\, September 7\, 2021 at 6 PMLIMIT:  2 events-120 run limit per event (240 runs total for the day) \nENTRY METHOD:  First Received\nSITE: Get Rev’d Agility Training Center\, 312 Middle Rd\, Elkton\, MD 21921\nTRIAL CHAIRPERSONS : Linda McRae\, 210 E. London Grove Road\, West Grove\, PA 19390\, Email: lmcrae52@gmail.com  Phone: 610-304-1216TRIAL SECRETARY:  Click to email me  Fast Times\,  3 Sherman CT\, Manalapan\, NJ 07726   Fax 1-888-521-1706\nPRELIMINARY CONFIRMATIONS: Fast Times will send preliminary confirmations to all exhibitors either as attachments via email or in the body of an email. If you do not have an email address and want a preliminary confirmation\, please send a self-addressed stamped envelope with your entry.\nPREMIUM: The Trial Premium and Trial entry Forms are available in both .DOC (Microsoft Word Document) or .PDF (Adobe Acrobat Reader format).  To Download the Trial Premium or the Trial Entry Form just click on the file type you want.  Be Patient – it may talk a few minutes to load.\n\n\n\n\n\n\nrevised_GORDON_SETTER_ISC_Premium.doc\nrevised_GORDON_SETTER_ISC_Premium.pdf\n\n\n\n\n\n\nRemember – You can type your dogs data DIRECTLY in the Word .doc entry form and print it out.NOTE: If you get an “Enter Network Password” window when trying to download any of these files\, just click “CANCEL” and then the file will open. Do the same thing if the box appears when returning back to this web page.
URL:https://fasttimesagility.com/event/gordon-setter-club-of-america/
LOCATION:Get Rev’d Agility\, Elkton\, MD\, 312 Middle Rd\, Elkton\, MD\, 21921\, United States
CATEGORIES:2021 AKC Agility Trial
END:VEVENT
BEGIN:VEVENT
DTSTART;VALUE=DATE:20210514
DTEND;VALUE=DATE:20210517
DTSTAMP:20260425T123107
CREATED:20210727T211256Z
LAST-MODIFIED:20220518T193805Z
UID:10000032-1620950400-1621209599@fasttimesagility.com
SUMMARY:Wilmington Kennel Club
DESCRIPTION:WILMINGTON RESULTS 2021 \nFRIDAY STD \nFRIDAY JWW \nFRIDAY FAST \nFRIDAY PREM STD \nFRIDAY PREM JWW \nSATURDAY STD \nSATURDAY JWW \nSATURDAY FAST \nSATURDAY PREM STD \nSUNDAY STD \nSUNDAY JWW \nSUNDAY FAST \nSUNDAY PREM JWW \n 
URL:https://fasttimesagility.com/event/wilmington-kennel-club/
LOCATION:Get Rev’d Agility\, Elkton\, MD\, 312 Middle Rd\, Elkton\, MD\, 21921\, United States
CATEGORIES:2021 AKC Agility Trial
ATTACH;FMTTYPE=image/gif:https://fasttimesagility.com/wp-content/uploads/2021/07/WKC_logo_web.gif
END:VEVENT
END:VCALENDAR