BEGIN:VCALENDAR
VERSION:2.0
PRODID:-//Fast Times, Inc. - ECPv6.15.12.2//NONSGML v1.0//EN
CALSCALE:GREGORIAN
METHOD:PUBLISH
X-WR-CALNAME:Fast Times, Inc.
X-ORIGINAL-URL:https://fasttimesagility.com
X-WR-CALDESC:Events for Fast Times, Inc.
REFRESH-INTERVAL;VALUE=DURATION:PT1H
X-Robots-Tag:noindex
X-PUBLISHED-TTL:PT1H
BEGIN:VTIMEZONE
TZID:UTC
BEGIN:STANDARD
TZOFFSETFROM:+0000
TZOFFSETTO:+0000
TZNAME:UTC
DTSTART:20200101T000000
END:STANDARD
END:VTIMEZONE
BEGIN:VEVENT
DTSTART;VALUE=DATE:20210514
DTEND;VALUE=DATE:20210517
DTSTAMP:20260421T020751
CREATED:20210727T211256Z
LAST-MODIFIED:20220518T193805Z
UID:2735-1620950400-1621209599@fasttimesagility.com
SUMMARY:Wilmington Kennel Club
DESCRIPTION:WILMINGTON RESULTS 2021 \nFRIDAY STD \nFRIDAY JWW \nFRIDAY FAST \nFRIDAY PREM STD \nFRIDAY PREM JWW \nSATURDAY STD \nSATURDAY JWW \nSATURDAY FAST \nSATURDAY PREM STD \nSUNDAY STD \nSUNDAY JWW \nSUNDAY FAST \nSUNDAY PREM JWW \n 
URL:https://fasttimesagility.com/event/wilmington-kennel-club/
LOCATION:Get Rev’d Agility\, Elkton\, MD\, 312 Middle Rd\, Elkton\, MD\, 21921\, United States
CATEGORIES:2021 AKC Agility Trial
ATTACH;FMTTYPE=image/gif:https://fasttimesagility.com/wp-content/uploads/2021/07/WKC_logo_web.gif
END:VEVENT
END:VCALENDAR