BEGIN:VCALENDAR
VERSION:2.0
PRODID:-//Fast Times, Inc. - ECPv6.15.12.2//NONSGML v1.0//EN
CALSCALE:GREGORIAN
METHOD:PUBLISH
X-WR-CALNAME:Fast Times, Inc.
X-ORIGINAL-URL:https://fasttimesagility.com
X-WR-CALDESC:Events for Fast Times, Inc.
REFRESH-INTERVAL;VALUE=DURATION:PT1H
X-Robots-Tag:noindex
X-PUBLISHED-TTL:PT1H
BEGIN:VTIMEZONE
TZID:America/New_York
BEGIN:DAYLIGHT
TZOFFSETFROM:-0500
TZOFFSETTO:-0400
TZNAME:EDT
DTSTART:20210314T070000
END:DAYLIGHT
BEGIN:STANDARD
TZOFFSETFROM:-0400
TZOFFSETTO:-0500
TZNAME:EST
DTSTART:20211107T060000
END:STANDARD
BEGIN:DAYLIGHT
TZOFFSETFROM:-0500
TZOFFSETTO:-0400
TZNAME:EDT
DTSTART:20220313T070000
END:DAYLIGHT
BEGIN:STANDARD
TZOFFSETFROM:-0400
TZOFFSETTO:-0500
TZNAME:EST
DTSTART:20221106T060000
END:STANDARD
BEGIN:DAYLIGHT
TZOFFSETFROM:-0500
TZOFFSETTO:-0400
TZNAME:EDT
DTSTART:20230312T070000
END:DAYLIGHT
BEGIN:STANDARD
TZOFFSETFROM:-0400
TZOFFSETTO:-0500
TZNAME:EST
DTSTART:20231105T060000
END:STANDARD
END:VTIMEZONE
BEGIN:VEVENT
DTSTART;VALUE=DATE:20220618
DTEND;VALUE=DATE:20220619
DTSTAMP:20260421T111536
CREATED:20220201T203114Z
LAST-MODIFIED:20220622T133419Z
UID:5353-1655510400-1655596799@fasttimesagility.com
SUMMARY:Westminster Kennel Club
DESCRIPTION:  \n\n\n\nWestminster running order\n\n\n\nrevised 2022 WESTMINSTER JUNE FINAL TRIAL CONF LETTER SAMPLE\n\n\nWestminster Exhibitor Information Guide 2022\n\n\nWestminster 2022 course maps \n\n\n\n\n  \nThe  9th annual Westminster Masters Agility Championship has been rescheduled. This event will now take place on June 18\, 2022 @ Lynhurst Estates. \n\n\n\nre-revised 2022 Westminster@LyndhurstPremium\n\n\n\nFor additional information on entry requirements and what to expect if you had entered the cancelled January 2022 event please follow this link:\nhttps://www.westminsterkennelclub.org/2022-wkc-dog-show/2022-westminster-entry-qualifications \n 
URL:https://fasttimesagility.com/event/westminster-kennel-club/
LOCATION:Lyndhurst Estate\, 635 S Broadway\, Tarrytown\, NY\, 10591\, United States
CATEGORIES:2022 AKC Agility Trial
ATTACH;FMTTYPE=image/jpeg:https://fasttimesagility.com/wp-content/uploads/2021/05/WKC.jpg
END:VEVENT
END:VCALENDAR