BEGIN:VCALENDAR
VERSION:2.0
PRODID:-//Fast Times, Inc. - ECPv6.15.12.2//NONSGML v1.0//EN
CALSCALE:GREGORIAN
METHOD:PUBLISH
X-WR-CALNAME:Fast Times, Inc.
X-ORIGINAL-URL:https://fasttimesagility.com
X-WR-CALDESC:Events for Fast Times, Inc.
REFRESH-INTERVAL;VALUE=DURATION:PT1H
X-Robots-Tag:noindex
X-PUBLISHED-TTL:PT1H
BEGIN:VTIMEZONE
TZID:America/New_York
BEGIN:DAYLIGHT
TZOFFSETFROM:-0500
TZOFFSETTO:-0400
TZNAME:EDT
DTSTART:20250309T070000
END:DAYLIGHT
BEGIN:STANDARD
TZOFFSETFROM:-0400
TZOFFSETTO:-0500
TZNAME:EST
DTSTART:20251102T060000
END:STANDARD
BEGIN:DAYLIGHT
TZOFFSETFROM:-0500
TZOFFSETTO:-0400
TZNAME:EDT
DTSTART:20260308T070000
END:DAYLIGHT
BEGIN:STANDARD
TZOFFSETFROM:-0400
TZOFFSETTO:-0500
TZNAME:EST
DTSTART:20261101T060000
END:STANDARD
BEGIN:DAYLIGHT
TZOFFSETFROM:-0500
TZOFFSETTO:-0400
TZNAME:EDT
DTSTART:20270314T070000
END:DAYLIGHT
BEGIN:STANDARD
TZOFFSETFROM:-0400
TZOFFSETTO:-0500
TZNAME:EST
DTSTART:20271107T060000
END:STANDARD
END:VTIMEZONE
BEGIN:VEVENT
DTSTART;VALUE=DATE:20260503
DTEND;VALUE=DATE:20260504
DTSTAMP:20260421T060311
CREATED:20251207T072608Z
LAST-MODIFIED:20260317T052440Z
UID:21931-1777766400-1777852799@fasttimesagility.com
SUMMARY:Tibetan Terrier Club of America\, Inc
DESCRIPTION:This event is only open to Tibetan Terriers. \n\n\n\n2026 TTCA Specialty Premium\n\n\nFillable PDF entry forms. These forms can be filled out on your computer before printing. \n\n\n2026 TTCA Agility entry form PDF\n2026 TTCA Obedience/Rally entry form PDF\n\n\n\nENTRIES OPEN:  Wednesday\, March 18\, 2026 at 8 AM\nENTRIES CLOSE: Wednesday\, April 22\, 2026 at 6 PM\nLIMIT:  100 Agility runs\, 8 hours of Obedience & Rally judging – Tibetan Terriers ONLY\nTRIAL SECRETARY:  Fast Times\, INC\, 3 Sherman CT\, Manalapan\, NJ 07726\nFax 1-888-521-1706 Click here to send us an email \nTo enter online you will need to create an account on the Fast Times website & be logged in.\nWhen creating an account\, you will receive an email to activate it.\nThis email may go to your spam folder so be sure to check there.\nOnce you are logged in\, the form will appear below.\nOnline entries open @ 8am on opening day!\nEntry forms are not required when entering online.\nALL PayPal fees are non refundable and are the exhibitors responsibility. \nTo enter online\, please login to your account. If you have not done so\, please create an account\, ACTIVATE IT\, and then log in at https://fasttimesagility.com/my-account.  The form to enter online will appear once you are logged in. Be sure to add your dog/dogs to your account before entering so that all of their info auto populates into the form.
URL:https://fasttimesagility.com/event/ttca-specialty-2026/
LOCATION:Ramapo Search and Rescue Foundation\, 120 Tetz Lane\, Middletown\, NY\, 10941\, United States
CATEGORIES:2026 AKC Agility Trial,2026 Obedience/Rally Event,Upcoming Events
ATTACH;FMTTYPE=image/jpeg:https://fasttimesagility.com/wp-content/uploads/2025/12/TT-WC-Natl-logo-FINAL2.jpg
END:VEVENT
END:VCALENDAR