BEGIN:VCALENDAR
VERSION:2.0
PRODID:-//Fast Times, Inc. - ECPv6.15.12.2//NONSGML v1.0//EN
CALSCALE:GREGORIAN
METHOD:PUBLISH
X-WR-CALNAME:Fast Times, Inc.
X-ORIGINAL-URL:https://fasttimesagility.com
X-WR-CALDESC:Events for Fast Times, Inc.
REFRESH-INTERVAL;VALUE=DURATION:PT1H
X-Robots-Tag:noindex
X-PUBLISHED-TTL:PT1H
BEGIN:VTIMEZONE
TZID:UTC
BEGIN:STANDARD
TZOFFSETFROM:+0000
TZOFFSETTO:+0000
TZNAME:UTC
DTSTART:20230101T000000
END:STANDARD
END:VTIMEZONE
BEGIN:VEVENT
DTSTART;VALUE=DATE:20240309
DTEND;VALUE=DATE:20240311
DTSTAMP:20260421T043724
CREATED:20231105T182104Z
LAST-MODIFIED:20240314T230429Z
UID:13143-1709942400-1710115199@fasttimesagility.com
SUMMARY:Tail Blazers Agility Club
DESCRIPTION:2024 TBAC FINAL TRIAL CONF LETTER SAMPLE\n\n\nGoogle docs link for Volunteer schedule: \n http://tinyurl.com/2024TBACMarchworkers\n\n\nTBAC March total running order\n\n\n\nTBAC March Saturday maps\nTBAC March Sunday maps\n\n\n\n\n  \nENTRIES OPEN:  Tues.\, January 23\, 2024 at 8 AM\nENTRIES CLOSE:   Tues.\, February 20\, 2024 at 6 PM\nLIMIT: 700 runs per day \nTRIAL CHAIR: Taylor Glietz; email: teglietz@gmail.com\nTRIAL SECRETARY:  Fast Times\, INC\, 3 Sherman CT\, Manalapan\, NJ 07726 Fax 1-888-521-1706\nClick here to send us an email \n\n\n\n2024 TBAC March Premium\n\n\nFillable entry forms in Word or PDF. These forms can be filled out on your computer. \n\n\n2024 TBAC March Word entry form\n2024 TBAC March PDF entry form\n\n\n\nStarting 24 hours after this trial opens we will be accepting emailed and faxed entries with payment made using the PayPal link below. \nIf you are using the below PayPal option to pay your fees\, please email or fax your completed entry form once you have made your payment. \nIf you prefer to mail a paper entry\, please email us and let us know that the PayPal payment you made goes with a form that was put in the mail.\n\nEmailed or faxed entries will not be accepted on opening day of any trial.\nALL PayPal fees are non refundable and are the exhibitors responsibility. \n  \n\n\n                \n                        \n                            TBAC March 24'\n                             \n                        \n                        Dog Name(Required)AKC #(Required)Owners Name(Required)Saturday\, March 9\, 2024Choose One1 Run - TBAC 3/9/242 Runs - TBAC 3/9/243 Runs - TBAC 3/9/244 Runs - TBAC 3/9/245 Runs - TBAC 3/9/246 Runs - TBAC 3/9/24Just 1 Additional Run - TBAC 3/9/24Sunday\, March 10\, 2024Choose One1 Run - TBAC 3/10/242 Runs - TBAC 3/10/243 Runs - TBAC 3/10/244 Runs - TBAC 3/10/245 Runs - TBAC 3/10/246 Runs - TBAC 3/10/24Just 1 Additional Run - TBAC 3/10/24Total\n							\n						Processing Fees\n					\n				Pay Pal Fees\n            \n                $0.00\n                \n            Payment MethodPayPal Checkout\n                                    MasterCardVisaSupported Credit Cards: MasterCard\, Visa\n                                    \n                                    Card Number\n                                 \n                                            \n                                                \n                                                Expiration Date\n                                            \n                                                \n                                                 \n                                                Security Code\n                                             \n                                        \n                                            \n                                            Cardholder Name\n                                         \n          \n            \n            \n            \n            \n            \n            \n            \n            \n            \n            \n            \n            \n            \n        \n                        \n                        \n\n 
URL:https://fasttimesagility.com/event/tbac-march-2024-2/
LOCATION:Premier Sports Center\, LLC\, 3 Coleman Ct.\, Southampton\, NJ\, 08088\, United States
CATEGORIES:2024 AKC Agility Trial
ATTACH;FMTTYPE=image/gif:https://fasttimesagility.com/wp-content/uploads/2021/07/TBAC_LOGO_web2.gif
END:VEVENT
END:VCALENDAR