BEGIN:VCALENDAR
VERSION:2.0
PRODID:-//Fast Times, Inc. - ECPv6.15.12.2//NONSGML v1.0//EN
CALSCALE:GREGORIAN
METHOD:PUBLISH
X-WR-CALNAME:Fast Times, Inc.
X-ORIGINAL-URL:https://fasttimesagility.com
X-WR-CALDESC:Events for Fast Times, Inc.
REFRESH-INTERVAL;VALUE=DURATION:PT1H
X-Robots-Tag:noindex
X-PUBLISHED-TTL:PT1H
BEGIN:VTIMEZONE
TZID:UTC
BEGIN:STANDARD
TZOFFSETFROM:+0000
TZOFFSETTO:+0000
TZNAME:UTC
DTSTART:20200101T000000
END:STANDARD
END:VTIMEZONE
BEGIN:VEVENT
DTSTART;VALUE=DATE:20210508
DTEND;VALUE=DATE:20210510
DTSTAMP:20260420T175730
CREATED:20210727T210922Z
LAST-MODIFIED:20220518T193758Z
UID:2732-1620432000-1620604799@fasttimesagility.com
SUMMARY:Staten Island Companion Dog Training Club
DESCRIPTION:SICDTC SPRING 2021 QUALIFIERS \nSATURDAY STD \nSATURDAY JWW \nSATURDAY PREM STD \nSATURDAY PREM JWW \nSUNDAY STD \nSUNDAY JWW \nSUNDAY FAST \nSUNDAY T2B \n 
URL:https://fasttimesagility.com/event/staten-island-companion-dog-training-club-2/
LOCATION:Bayshore Companion Dog Club\, 2962 Shafto Rd\, Tinton Falls\, NJ\, 07726\, United States
CATEGORIES:2021 AKC Agility Trial
END:VEVENT
END:VCALENDAR