BEGIN:VCALENDAR
VERSION:2.0
PRODID:-//Fast Times, Inc. - ECPv6.15.12.2//NONSGML v1.0//EN
CALSCALE:GREGORIAN
METHOD:PUBLISH
X-WR-CALNAME:Fast Times, Inc.
X-ORIGINAL-URL:https://fasttimesagility.com
X-WR-CALDESC:Events for Fast Times, Inc.
REFRESH-INTERVAL;VALUE=DURATION:PT1H
X-Robots-Tag:noindex
X-PUBLISHED-TTL:PT1H
BEGIN:VTIMEZONE
TZID:UTC
BEGIN:STANDARD
TZOFFSETFROM:+0000
TZOFFSETTO:+0000
TZNAME:UTC
DTSTART:20210101T000000
END:STANDARD
END:VTIMEZONE
BEGIN:VEVENT
DTSTART;VALUE=DATE:20220527
DTEND;VALUE=DATE:20220530
DTSTAMP:20260421T110231
CREATED:20211221T031935Z
LAST-MODIFIED:20220529T071823Z
UID:4275-1653609600-1653868799@fasttimesagility.com
SUMMARY:Skyline Agility Club
DESCRIPTION:2022 SKYLINE MAY FINAL TRIAL CONF LETTER SAMPLE\n\n\nGoogle docs link for Volunteer schedule:\nhttp://tinyurl.com/2022SkylineMayWorkers\n\n\n\ntotal running order\n\n\n\nSkyline May Friday maps\nSkyline May Saturday maps\nSkyline May Sunday maps\n\n\n\n\n  \n  \nENTRIES OPEN:  Tuesday\, April 12\, 2022 at 8 AM\nENTRIES CLOSE: Tuesday\, May 10\, 2022 at 6 PM\nLIMIT:  350 runs per day\nTRIAL CHAIRPERSON: Marita Spooner\, email: alspooner@aol.com\nTRIAL SECRETARY:  Fast Times\, INC\, 3 Sherman CT\, Manalapan\, NJ 07726\nFax 1-888-521-1706 Click here to send us an email \n\n\n\n2022 SKYLINE MAY Premium-doc\n2022 SKYLINE MAY Premium-pdf
URL:https://fasttimesagility.com/event/skyline-may/
LOCATION:Ramapo Search and Rescue Foundation\, 120 Tetz Lane\, Middletown\, NY\, 10941\, United States
CATEGORIES:2022 AKC Agility Trial
ATTACH;FMTTYPE=image/gif:https://fasttimesagility.com/wp-content/uploads/2021/07/SkylineLogoWeb.gif
END:VEVENT
END:VCALENDAR