BEGIN:VCALENDAR
VERSION:2.0
PRODID:-//Fast Times, Inc. - ECPv6.15.12.2//NONSGML v1.0//EN
CALSCALE:GREGORIAN
METHOD:PUBLISH
X-WR-CALNAME:Fast Times, Inc.
X-ORIGINAL-URL:https://fasttimesagility.com
X-WR-CALDESC:Events for Fast Times, Inc.
REFRESH-INTERVAL;VALUE=DURATION:PT1H
X-Robots-Tag:noindex
X-PUBLISHED-TTL:PT1H
BEGIN:VTIMEZONE
TZID:America/New_York
BEGIN:DAYLIGHT
TZOFFSETFROM:-0500
TZOFFSETTO:-0400
TZNAME:EDT
DTSTART:20240310T070000
END:DAYLIGHT
BEGIN:STANDARD
TZOFFSETFROM:-0400
TZOFFSETTO:-0500
TZNAME:EST
DTSTART:20241103T060000
END:STANDARD
BEGIN:DAYLIGHT
TZOFFSETFROM:-0500
TZOFFSETTO:-0400
TZNAME:EDT
DTSTART:20250309T070000
END:DAYLIGHT
BEGIN:STANDARD
TZOFFSETFROM:-0400
TZOFFSETTO:-0500
TZNAME:EST
DTSTART:20251102T060000
END:STANDARD
BEGIN:DAYLIGHT
TZOFFSETFROM:-0500
TZOFFSETTO:-0400
TZNAME:EDT
DTSTART:20260308T070000
END:DAYLIGHT
BEGIN:STANDARD
TZOFFSETFROM:-0400
TZOFFSETTO:-0500
TZNAME:EST
DTSTART:20261101T060000
END:STANDARD
END:VTIMEZONE
BEGIN:VEVENT
DTSTART;VALUE=DATE:20251128
DTEND;VALUE=DATE:20251201
DTSTAMP:20260421T060202
CREATED:20250204T182024Z
LAST-MODIFIED:20251205T194826Z
UID:17328-1764288000-1764547199@fasttimesagility.com
SUMMARY:Skyline Agility Club
DESCRIPTION:2025 SKYLINE NOVEMBER FINAL TRIAL CONF LETTER SAMPLE\n\n\nGoogle docs link for Volunteer schedule:  \nhttp://tinyurl.com/2025SkylinesNovWorkers\n\n\nSkyline November running order\n\n\n\nENTRIES OPEN:  Tuesday\, October 14\, 2025 at 8 AM\nENTRIES CLOSE: Tuesday\, November 11\, 2025 at 6 PM\nLIMIT:  350 runs \nTRIAL CHAIRPERSON: Lisa Schaefer\, Email: laschaefer@frontiernet.net\nTRIAL SECRETARY:  Fast Times\, INC\, 3 Sherman CT\, Manalapan\, NJ 07726\nFax 1-888-521-1706 Click here to send us an email \n\n\n\n2025 Skyline November Premium\n\n\nFill able entry forms in Word or PDF. These forms can be filled out on your computer. \n\n\n2025 Skyline November PDF entry form\n2025 Skyline November Word entry form\n\n\n\nTo enter online you will need to create an account on the Fast Times website & be logged in.\nWhen creating an account\, you will receive an email to activate it.\nThis email may go to your spam folder so be sure to check there.\nOnce you are logged in\, the form will appear below.\nOnline entries open @ 8am on opening day!\nEntry forms are not required when entering online.\nALL PayPal fees are non refundable and are the exhibitors responsibility. \nTo enter online\, please login to your account. If you have not done so\, please create an account\, ACTIVATE IT\, and then log in at https://fasttimesagility.com/my-account. The form will appear once you are logged in.
URL:https://fasttimesagility.com/event/skyline-dec-2025/
LOCATION:Ramapo Search and Rescue Foundation\, 120 Tetz Lane\, Middletown\, NY\, 10941\, United States
CATEGORIES:2025 AKC Agility Trial
ATTACH;FMTTYPE=image/gif:https://fasttimesagility.com/wp-content/uploads/2021/07/SkylineLogoWeb.gif
END:VEVENT
END:VCALENDAR