BEGIN:VCALENDAR
VERSION:2.0
PRODID:-//Fast Times, Inc. - ECPv6.15.12.2//NONSGML v1.0//EN
CALSCALE:GREGORIAN
METHOD:PUBLISH
X-WR-CALNAME:Fast Times, Inc.
X-ORIGINAL-URL:https://fasttimesagility.com
X-WR-CALDESC:Events for Fast Times, Inc.
REFRESH-INTERVAL;VALUE=DURATION:PT1H
X-Robots-Tag:noindex
X-PUBLISHED-TTL:PT1H
BEGIN:VTIMEZONE
TZID:America/New_York
BEGIN:DAYLIGHT
TZOFFSETFROM:-0500
TZOFFSETTO:-0400
TZNAME:EDT
DTSTART:20220313T070000
END:DAYLIGHT
BEGIN:STANDARD
TZOFFSETFROM:-0400
TZOFFSETTO:-0500
TZNAME:EST
DTSTART:20221106T060000
END:STANDARD
BEGIN:DAYLIGHT
TZOFFSETFROM:-0500
TZOFFSETTO:-0400
TZNAME:EDT
DTSTART:20230312T070000
END:DAYLIGHT
BEGIN:STANDARD
TZOFFSETFROM:-0400
TZOFFSETTO:-0500
TZNAME:EST
DTSTART:20231105T060000
END:STANDARD
BEGIN:DAYLIGHT
TZOFFSETFROM:-0500
TZOFFSETTO:-0400
TZNAME:EDT
DTSTART:20240310T070000
END:DAYLIGHT
BEGIN:STANDARD
TZOFFSETFROM:-0400
TZOFFSETTO:-0500
TZNAME:EST
DTSTART:20241103T060000
END:STANDARD
END:VTIMEZONE
BEGIN:VEVENT
DTSTART;VALUE=DATE:20230415
DTEND;VALUE=DATE:20230417
DTSTAMP:20260421T125714
CREATED:20221101T023640Z
LAST-MODIFIED:20230420T110949Z
UID:9092-1681516800-1681689599@fasttimesagility.com
SUMMARY:Staten Island Companion Dog Training Club
DESCRIPTION:We WILL be accepting emailed/faxed entries on opening day starting at 8am with payment made using the PayPal link at the bottom of this page (available opening day).  \nENTRIES OPEN:  Wednesday\, March 1\, 2023 at 8 AM\nENTRIES CLOSE:   Wednesday\, March 29\, 2023 at 6 PM\nLIMITS:  7 judging hours per judge/per event.\nTRIAL SECRETARY:  Fast Times\, INC\, 3 Sherman CT\, Manalapan\, NJ 07726 Fax 1-888-521-1706\nClick here to send us an email \nAll checks should be made payable to Fast Times. \n\n\n\nrevised 2023 SICDTC OB APRIL premium\n\n\n\n\nWe WILL be accepting emailed/faxed entries on opening day starting at 8am. \n \nTo use the Fax/Email option\, payments must be made via the PayPal link below\n(link will be posted by 8am on opening day).\nFax or Email entry steps to follow:\nStep 1: email your completed entry form to trialsec@fasttimesagility.com or fax your completed entry form to 1-888-521-1706.\nPlease click here for a fill-able PDF entry form for this trial\nStep 2: Use the link below to pay via PayPal (link will be posted on opening day).  There is a $2.50 PayPal non-refundable processing fee per entry using these methods. This fee is already included in the entry fee amount when you add your runs to your cart. \n\n\nStep 3: Be sure to include the owner’s last name and dog’s registration number when making your PayPal payment so we can match your payment to your entry. \n\n\nPlease remember\, payment must be received at the time of entry with all entry methods. \n\n\n \n\n\n\nPayPal link below.\nThere is a down arrow to the right of the prices that will open a dropdown box of options.\nIf using a smart phone\, tap in the price box to see the list of options.\n\n\nSICDTC April Obedience\n\n\n1 Obediecne class for 1 dog/1 trial $35.50 USD1 UDX entry for 1 dog/1 trial $65.00 USD1 class for 1 dog in 2 trials $71.00 USD\n\n\ndog AKC # & owner’s last name
URL:https://fasttimesagility.com/event/sicdtc-ob-april/
LOCATION:SICDTC Training Building\, 75 Ellis Street\, Staten Island\, NY\, 10307
CATEGORIES:2023 Obedience/Rally Event
ATTACH;FMTTYPE=image/jpeg:https://fasttimesagility.com/wp-content/uploads/2022/10/SICDTC-logo-2.jpg
END:VEVENT
END:VCALENDAR