BEGIN:VCALENDAR
VERSION:2.0
PRODID:-//Fast Times, Inc. - ECPv6.15.12.2//NONSGML v1.0//EN
CALSCALE:GREGORIAN
METHOD:PUBLISH
X-WR-CALNAME:Fast Times, Inc.
X-ORIGINAL-URL:https://fasttimesagility.com
X-WR-CALDESC:Events for Fast Times, Inc.
REFRESH-INTERVAL;VALUE=DURATION:PT1H
X-Robots-Tag:noindex
X-PUBLISHED-TTL:PT1H
BEGIN:VTIMEZONE
TZID:UTC
BEGIN:STANDARD
TZOFFSETFROM:+0000
TZOFFSETTO:+0000
TZNAME:UTC
DTSTART:20240101T000000
END:STANDARD
END:VTIMEZONE
BEGIN:VEVENT
DTSTART;VALUE=DATE:20250125
DTEND;VALUE=DATE:20250127
DTSTAMP:20260421T043608
CREATED:20241019T114802Z
LAST-MODIFIED:20250128T124339Z
UID:17413-1737763200-1737935999@fasttimesagility.com
SUMMARY:Staten Island Companion Dog Training Club
DESCRIPTION:2025 SICDTC JAN FINAL TRIAL CONF LETTER SAMPLE\n\n\nGoogle docs link for Volunteer schedule:\nhttp://tinyurl.com/2025SICDTCJanuaryWorkers\n\n\nSICDTC January total running order\n\n\n\nSICDTC January Saturday maps\nSICDTC January Sunday maps\n\n\n\n\nENTRIES OPEN:  Tuesday\, December 10\, 2024 at 8 AM\nENTRIES CLOSE: Tuesday\, January 7\, 2025 at 6 PM\nLIMIT:  350 runs per day \nTRIAL CO-CHAIR: Trudy Wisner email: wisnertrudy@yahoo.com\nTRIAL CO-CHAIR: Jennifer Albrizio email: shortstop1255@aol.com\nTRIAL SECRETARY:  Fast Times\, INC\, 3 Sherman CT\, Manalapan\, NJ 07726 Fax 1-888-521-1706\nClick here to send us an email \n  \n\n\n\nrevised 2025 SICDTC January Premium\n\n\nFillable entry forms in Word or PDF. These forms can be filled out on your computer. \n\n\nrevised 2025 SICDTC January PDF entry form\nrevised 2025 SICDTC January Word entry form\n\n\n\n Starting 24 hours after this trial opens we will be accepting emailed and faxed entries with payment made using the PayPal link below. \nIf you are using PayPal to pay your fees\, please email or fax your completed entry form when you make payment. If you prefer to mail a paper entry form but still want to pay using the PayPal link\, please email us and let us know your form was mailed when you submit your payment so we aren’t searching email folders for a form we will not receive.\n\nPlease fill out entry forms on your computer using one of the links listed above.\nThat makes it much easier for us to read all of the info for you and your dog. \nEmailed or faxed entries will not be accepted on opening day of any trial.\nALL PayPal fees are non refundable and are the exhibitors responsibility.\nPayPal is only accepted for this trial using the payment link found on this page.
URL:https://fasttimesagility.com/event/sicdtc-january-2025/
LOCATION:UDog Agility\, 1957 Pioneer Road\, Unit B6\, Huntington Valley\, PA\, 19006\, United States
CATEGORIES:2024 AKC Agility Trial,2025 AKC Agility Trial
ATTACH;FMTTYPE=image/jpeg:https://fasttimesagility.com/wp-content/uploads/2022/10/SICDTC-logo-2.jpg
END:VEVENT
END:VCALENDAR