BEGIN:VCALENDAR
VERSION:2.0
PRODID:-//Fast Times, Inc. - ECPv6.15.12.2//NONSGML v1.0//EN
CALSCALE:GREGORIAN
METHOD:PUBLISH
X-WR-CALNAME:Fast Times, Inc.
X-ORIGINAL-URL:https://fasttimesagility.com
X-WR-CALDESC:Events for Fast Times, Inc.
REFRESH-INTERVAL;VALUE=DURATION:PT1H
X-Robots-Tag:noindex
X-PUBLISHED-TTL:PT1H
BEGIN:VTIMEZONE
TZID:UTC
BEGIN:STANDARD
TZOFFSETFROM:+0000
TZOFFSETTO:+0000
TZNAME:UTC
DTSTART:20240101T000000
END:STANDARD
END:VTIMEZONE
BEGIN:VEVENT
DTSTART;VALUE=DATE:20250425
DTEND;VALUE=DATE:20250426
DTSTAMP:20260421T093219
CREATED:20241216T222937Z
LAST-MODIFIED:20250429T040637Z
UID:17390-1745539200-1745625599@fasttimesagility.com
SUMMARY:Princeton Dog Training Club
DESCRIPTION:2025 PRINCETON APRIL N-O FINAL TRIAL CONF LETTER SAMPLE\n\n\nGoogle worker link:\nhttps://tinyurl.com/2025PrincetonNov-OpenWorkers\n\n\nPrinceton Novice-Open total running order\n\n\n\n\n  \n\n\n\n2025 Princeton Novice-Open premium\n\n\nFill able entry forms in Word or PDF. These forms can be filled out on your computer. \n\n\n2025 Princeton Novice-Open PDF entry form\n2025 Princeton Novice-Open Word entry form\n\n\n\nENTRIES OPEN:  Tuesday\, March 11\, 2025 at 8 AM\nENTRIES CLOSE: Tuesday\, April 08\, 2025 at 6 PM\nLIMIT:  200 runs \nTRIAL CHAIRPERSON: Michele Carberry email: dobie119@comcast.net\nTRIAL SECRETARY:  Fast Times\, INC\, 3 Sherman CT\, Manalapan\, NJ 07726\nFax 1-888-521-1706 Click here to send us an email \nStarting 24 hours after this trial opens we will be accepting emailed and faxed entries with payment made using the PayPal link below. \nIf you are using PayPal to pay your fees\, please email or fax your completed entry form when you make payment. If you prefer to mail a paper entry form but still want to pay using the PayPal link\, please email us and let us know your form was mailed when you submit your payment so we aren’t searching email folders for a form we will not receive.\n\nPlease fill out entry forms on your computer using one of the links listed above.\nThat makes it much easier for us to read all of the info for you and your dog. \nEmailed or faxed entries will not be accepted on opening day of any trial.\nALL PayPal fees are non refundable and are the exhibitors responsibility.\nPayPal is only accepted for this trial using the payment link found on this page. \n\n\n                \n                        \n                            Princeton Novice/Open 25'\n                             \n                        \n                        Dog Name(Required)AKC #(Required)Owner's Name(Required)Friday\, April 25\, 2025Choose One1 Run - Princeton 4/25/252 Runs - Princeton 4/25/253 Runs - Princeton 4/25/25Just 1 Additional Run - Princeton 4/25/25Total\n							\n						Processing Fees\n					\n				Pay Pal Fees\n            \n                $0.00\n                \n            Payment MethodPayPal Checkout\n                                    MasterCardVisaSupported Credit Cards: MasterCard\, Visa\n                                    \n                                    Card Number\n                                 \n                                            \n                                                \n                                                Expiration Date\n                                            \n                                                \n                                                 \n                                                Security Code\n                                             \n                                        \n                                            \n                                            Cardholder Name
URL:https://fasttimesagility.com/event/princeton-dog-training-club-april-2/
LOCATION:Princeton Dog Training Club Agility Building\, 290 Rileyville Road\, East Amwell Township\, NJ\, 08551\, United States
CATEGORIES:2025 AKC Agility Trial
ATTACH;FMTTYPE=image/jpeg:https://fasttimesagility.com/wp-content/uploads/2021/11/pdtc-logo_orig.jpg
END:VEVENT
END:VCALENDAR