BEGIN:VCALENDAR
VERSION:2.0
PRODID:-//Fast Times, Inc. - ECPv6.15.12.2//NONSGML v1.0//EN
CALSCALE:GREGORIAN
METHOD:PUBLISH
X-WR-CALNAME:Fast Times, Inc.
X-ORIGINAL-URL:https://fasttimesagility.com
X-WR-CALDESC:Events for Fast Times, Inc.
REFRESH-INTERVAL;VALUE=DURATION:PT1H
X-Robots-Tag:noindex
X-PUBLISHED-TTL:PT1H
BEGIN:VTIMEZONE
TZID:America/New_York
BEGIN:DAYLIGHT
TZOFFSETFROM:-0500
TZOFFSETTO:-0400
TZNAME:EDT
DTSTART:20210314T070000
END:DAYLIGHT
BEGIN:STANDARD
TZOFFSETFROM:-0400
TZOFFSETTO:-0500
TZNAME:EST
DTSTART:20211107T060000
END:STANDARD
BEGIN:DAYLIGHT
TZOFFSETFROM:-0500
TZOFFSETTO:-0400
TZNAME:EDT
DTSTART:20220313T070000
END:DAYLIGHT
BEGIN:STANDARD
TZOFFSETFROM:-0400
TZOFFSETTO:-0500
TZNAME:EST
DTSTART:20221106T060000
END:STANDARD
BEGIN:DAYLIGHT
TZOFFSETFROM:-0500
TZOFFSETTO:-0400
TZNAME:EDT
DTSTART:20230312T070000
END:DAYLIGHT
BEGIN:STANDARD
TZOFFSETFROM:-0400
TZOFFSETTO:-0500
TZNAME:EST
DTSTART:20231105T060000
END:STANDARD
END:VTIMEZONE
BEGIN:VEVENT
DTSTART;VALUE=DATE:20221203
DTEND;VALUE=DATE:20221205
DTSTAMP:20260421T145655
CREATED:20220212T040259Z
LAST-MODIFIED:20221214T044936Z
UID:5486-1670025600-1670198399@fasttimesagility.com
SUMMARY:Princeton Dog Training Club
DESCRIPTION:revised 2022 PRINCETON DEC OB-RLY judging schedule\n\n\n\n  \nENTRIES OPEN:  Wednesday\, October 19\, 2022 at 8 AM\nENTRIES CLOSE:   Wednesday\, November 16\, 2022 at 6 PM\nLIMITS:  8 judging hours per event.\nTRIAL SECRETARY:  Fast Times\, INC\, 3 Sherman CT\, Manalapan\, NJ 07726 Fax 1-888-521-1706\nClick here to send us an email \n\n\n\n2022 PRINCETON DECEMBER OB-RLY premium\n\n\n\n\nAll checks should be made payable to Fast Times.\nTo use the Fax/Email option\, payments must be made via PayPal using the link below starting at 8 am on 10/19/22 and not before! \nFax or Email entry steps to follow:\nStep 1: email your completed entry form to trialsec@fasttimesagility.com or fax your completed entry form to 1-888-521-1706.\nPlease click here for a fill-able PDF form for this trial\nStep 2: Use the link below to pay via PayPal (link will be posted on opening day).  There is a $2.50 PayPal non-refundable processing fee per entry using these methods. This fee is already included in the entry fee amount when you add your runs to your cart.\nStep 3: Be sure to include the owner’s last name and dog’s registration number when making your PayPal payment so we can match your payment to your entry. \n\n\nPlease remember\, payment must be received at the time of entry with all entry methods. \nSaturday Obedience is full and so is the waitlist.\nSunday rally events are both full. We have started a waitlist.  \nWe are not accepting payments at this time. If you are on the waitlist and get into this trial\, we will send you instructions on how to submit your payment at that time.
URL:https://fasttimesagility.com/event/princeton-dog-training-club-6-2/
LOCATION:Princeton Dog Training Club Obedience Building\, 219 Blackhorse Lane\, North Brunswick\, NJ\, 08902\, United States
CATEGORIES:2022 Obedience/Rally Event
ATTACH;FMTTYPE=image/jpeg:https://fasttimesagility.com/wp-content/uploads/2021/11/pdtc-logo_orig.jpg
END:VEVENT
END:VCALENDAR