BEGIN:VCALENDAR
VERSION:2.0
PRODID:-//Fast Times, Inc. - ECPv6.15.12.2//NONSGML v1.0//EN
CALSCALE:GREGORIAN
METHOD:PUBLISH
X-WR-CALNAME:Fast Times, Inc.
X-ORIGINAL-URL:https://fasttimesagility.com
X-WR-CALDESC:Events for Fast Times, Inc.
REFRESH-INTERVAL;VALUE=DURATION:PT1H
X-Robots-Tag:noindex
X-PUBLISHED-TTL:PT1H
BEGIN:VTIMEZONE
TZID:UTC
BEGIN:STANDARD
TZOFFSETFROM:+0000
TZOFFSETTO:+0000
TZNAME:UTC
DTSTART:20220101T000000
END:STANDARD
END:VTIMEZONE
BEGIN:VEVENT
DTSTART;VALUE=DATE:20230519
DTEND;VALUE=DATE:20230521
DTSTAMP:20260421T105324
CREATED:20221028T192651Z
LAST-MODIFIED:20230524T115515Z
UID:8868-1684454400-1684627199@fasttimesagility.com
SUMMARY:Princeton Dog Training Club
DESCRIPTION:2023 PRINCETON MAY FINAL TRIAL CONF LETTER SAMPLE\n\n\nGoogle docs link for Volunteer schedule:\n http://tinyurl.com/2023PrincetonMayWorkers  \n\n\nPrinceton May total running order\n\n\n\nPrinceton May Friday maps ALL\nNo Saturday maps from Dawn Falk as of 2:45 am. \nZach Davis’ Princeton May Saturday maps\n\n\n\n\nENTRIES OPEN:  Tuesday\, April 4\, 2023 at 8 AM\nENTRIES CLOSE: Tuesday\, May 2\, 2023 at 6 PM\nLIMIT:  700 runs each day\nTRIAL CHAIRPERSON: Janice Lange email:j.e.land@comcast.net\nTRIAL SECRETARY:  Fast Times\, INC\, 3 Sherman CT\, Manalapan\, NJ 07726\nFax 1-888-521-1706 Click here to send us an email \n\n\n\nBoth premiums contain a fill-able entry form. Please be sure to fill it out before printing it so that we can read all of your entry information. \n\n\n2023-PRINCETON-MAY-Premium.doc\n2023-PRINCETON-MAY-Premium.pdf\n\n\n\nStarting 24 hours after this trial opens we will be accepting emailed and faxed entries with payment made using the PayPal link below. \nIf you are using the below PayPal option to pay your fees\, please email or fax your completed entry form once you have made your payment. \nIf you prefer to mail a paper entry\, please email us and let us know it was put in the mail.\nIf you need a blank PDF form to fill out\, here is the link:\nPlease click here for a fill able PDF entry form for this trial \n\nEmailed or faxed entries will not be accepted on opening day of any trial.\nALL PayPal fees are non refundable and are the exhibitors responsibility. \n\n\n                \n                        \n                            Princeton May\n                             \n                        \n                        Dog Name(Required)AKC #(Required)Owners Name(Required)Friday\, May 19\, 2023Choose One1 Run - Princeton 5/19/232 Runs - Princeton 5/19/233 Runs - Princeton 5/19/234 Runs - Princeton 5/19/235 Runs - Princeton 5/19/236 Runs - Princeton 5/19/23Just 1 Additional Run - Princeton 5/19/23Saturday\, May 20\, 2023Choose One1 Run - Princeton 5/20/232 Runs - Princeton 5/20/233 Runs - Princeton 5/20/234 Runs - Princeton 5/20/235 Runs - Princeton 5/20/236 Runs - Princeton 5/20/23Just 1 Additional Run - Princeton 5/20/23Total\n							\n						Processing Fees\n					\n				Pay Pal Fees\n            \n                $0.00\n                \n            Payment MethodPayPal Checkout\n                                    MasterCardVisaSupported Credit Cards: MasterCard\, Visa\n                                    \n                                    Card Number\n                                 \n                                            \n                                                \n                                                Expiration Date\n                                            \n                                                \n                                                 \n                                                Security Code\n                                             \n                                        \n                                            \n                                            Cardholder Name
URL:https://fasttimesagility.com/event/princeton-dog-training-club-3-2/
LOCATION:Robbinsville Fieldhouse\, 153 West Manor Way\, Robbinsville\, 08691\, United States
CATEGORIES:2023 AKC Agility Trial
ATTACH;FMTTYPE=image/jpeg:https://fasttimesagility.com/wp-content/uploads/2021/11/pdtc-logo_orig.jpg
END:VEVENT
END:VCALENDAR