BEGIN:VCALENDAR
VERSION:2.0
PRODID:-//Fast Times, Inc. - ECPv6.15.12.2//NONSGML v1.0//EN
CALSCALE:GREGORIAN
METHOD:PUBLISH
X-WR-CALNAME:Fast Times, Inc.
X-ORIGINAL-URL:https://fasttimesagility.com
X-WR-CALDESC:Events for Fast Times, Inc.
REFRESH-INTERVAL;VALUE=DURATION:PT1H
X-Robots-Tag:noindex
X-PUBLISHED-TTL:PT1H
BEGIN:VTIMEZONE
TZID:UTC
BEGIN:STANDARD
TZOFFSETFROM:+0000
TZOFFSETTO:+0000
TZNAME:UTC
DTSTART:20200101T000000
END:STANDARD
END:VTIMEZONE
BEGIN:VEVENT
DTSTART;VALUE=DATE:20210521
DTEND;VALUE=DATE:20210523
DTSTAMP:20260421T053343
CREATED:20210727T225626Z
LAST-MODIFIED:20220518T193821Z
UID:2743-1621555200-1621727999@fasttimesagility.com
SUMMARY:Princeton Dog Training Club
DESCRIPTION:PRINCETON 2021 SPRING QUALIFIERS \nSM FRIDAY STD \nSM FRIDAY JWW \nSM FRIDAY PREM STD \nBP FRIDAY STD \nBP FRIDAY JWW \nBP FRIDAY PREM JWW \nSATURDAY STD \nSATURDAY JWW \nSATURDAY FAST \nSATURDAY PREM STD \nSATURDAY PREM JWW
URL:https://fasttimesagility.com/event/princeton-dog-training-club-2/
LOCATION:Premier Sports Center\, LLC\, 3 Coleman Ct.\, Southampton\, NJ\, 08088\, United States
CATEGORIES:2021 AKC Agility Trial
ATTACH;FMTTYPE=image/jpeg:https://fasttimesagility.com/wp-content/uploads/2021/07/pdtc-logo.jpeg
END:VEVENT
END:VCALENDAR