BEGIN:VCALENDAR
VERSION:2.0
PRODID:-//Fast Times, Inc. - ECPv6.15.12.2//NONSGML v1.0//EN
CALSCALE:GREGORIAN
METHOD:PUBLISH
X-WR-CALNAME:Fast Times, Inc.
X-ORIGINAL-URL:https://fasttimesagility.com
X-WR-CALDESC:Events for Fast Times, Inc.
REFRESH-INTERVAL;VALUE=DURATION:PT1H
X-Robots-Tag:noindex
X-PUBLISHED-TTL:PT1H
BEGIN:VTIMEZONE
TZID:UTC
BEGIN:STANDARD
TZOFFSETFROM:+0000
TZOFFSETTO:+0000
TZNAME:UTC
DTSTART:20200101T000000
END:STANDARD
END:VTIMEZONE
BEGIN:VEVENT
DTSTART;VALUE=DATE:20210514
DTEND;VALUE=DATE:20210517
DTSTAMP:20260421T052341
CREATED:20210727T211554Z
LAST-MODIFIED:20220518T193728Z
UID:2738-1620950400-1621209599@fasttimesagility.com
SUMMARY:Port Chester Obedience Training Club
DESCRIPTION:PORT CHESTER SPRING 2021 QUALIFIERS \nFRIDAY STD \nFRIDAY JWW \nFRIDAY PREM JWW \nFRIDAY FAST \nSATURDAY STD \nSATURDAY JWW \nSATURDAY FAST \nSUNDAY STD \nSUNDAY JWW \nSUNDAY PREM STD
URL:https://fasttimesagility.com/event/port-chester-obedience-training-club/
LOCATION:Ramapo Search and Rescue Foundation\, 120 Tetz Lane\, Middletown\, NY\, 10941\, United States
CATEGORIES:2021 AKC Agility Trial,2021 Obedience/Rally Event
END:VEVENT
END:VCALENDAR