BEGIN:VCALENDAR
VERSION:2.0
PRODID:-//Fast Times, Inc. - ECPv6.15.12.2//NONSGML v1.0//EN
CALSCALE:GREGORIAN
METHOD:PUBLISH
X-WR-CALNAME:Fast Times, Inc.
X-ORIGINAL-URL:https://fasttimesagility.com
X-WR-CALDESC:Events for Fast Times, Inc.
REFRESH-INTERVAL;VALUE=DURATION:PT1H
X-Robots-Tag:noindex
X-PUBLISHED-TTL:PT1H
BEGIN:VTIMEZONE
TZID:UTC
BEGIN:STANDARD
TZOFFSETFROM:+0000
TZOFFSETTO:+0000
TZNAME:UTC
DTSTART:20210101T000000
END:STANDARD
END:VTIMEZONE
BEGIN:VEVENT
DTSTART;VALUE=DATE:20220514
DTEND;VALUE=DATE:20220516
DTSTAMP:20260421T093111
CREATED:20211221T012705Z
LAST-MODIFIED:20220518T191947Z
UID:4262-1652486400-1652659199@fasttimesagility.com
SUMMARY:Port Chester Obedience Training Club
DESCRIPTION:2022 Port Chester FINAL TRIAL CONF LETTER SAMPLE\n\n\nPlease use Google Docs link to Volunteer:\n http://tinyurl.com/2022PCOTCworkers\n\n\n\ntotal running order\n\n\n\nPort Chester Saturday maps\nPort Chester Sunday maps\n\n\n\nENTRIES OPEN:  Tuesday\, March 29\, 2022 at 8 AM\nENTRIES CLOSE: Tuesday\, April 26\, 2022 at 6 PM\nLIMIT:  350 runs each day\nTRIAL CHAIRPERSON: Rita Berardino email: rita.berardino@gmail.com\nTRIAL SECRETARY:  Fast Times\, INC\, 3 Sherman CT\, Manalapan\, NJ 07726\nFax 1-888-521-1706 Click here to send us an email \n\n\n\nrevised 2022 PORT CHESTER PREMIUM-doc\nrevised 2022 PORT CHESTER PREMIUM-pdf
URL:https://fasttimesagility.com/event/port-chester-obedience-training-club-2/
LOCATION:Ramapo Search and Rescue Foundation\, 120 Tetz Lane\, Middletown\, NY\, 10941\, United States
CATEGORIES:2022 AKC Agility Trial
ATTACH;FMTTYPE=image/png:https://fasttimesagility.com/wp-content/uploads/2021/12/Website_Logo_High.png
END:VEVENT
END:VCALENDAR