BEGIN:VCALENDAR
VERSION:2.0
PRODID:-//Fast Times, Inc. - ECPv6.15.12.2//NONSGML v1.0//EN
CALSCALE:GREGORIAN
METHOD:PUBLISH
X-WR-CALNAME:Fast Times, Inc.
X-ORIGINAL-URL:https://fasttimesagility.com
X-WR-CALDESC:Events for Fast Times, Inc.
REFRESH-INTERVAL;VALUE=DURATION:PT1H
X-Robots-Tag:noindex
X-PUBLISHED-TTL:PT1H
BEGIN:VTIMEZONE
TZID:UTC
BEGIN:STANDARD
TZOFFSETFROM:+0000
TZOFFSETTO:+0000
TZNAME:UTC
DTSTART:20200101T000000
END:STANDARD
END:VTIMEZONE
BEGIN:VEVENT
DTSTART;VALUE=DATE:20210430
DTEND;VALUE=DATE:20210503
DTSTAMP:20260421T015507
CREATED:20210727T200653Z
LAST-MODIFIED:20220518T193657Z
UID:2729-1619740800-1619999999@fasttimesagility.com
SUMMARY:Lower Camden DTC
DESCRIPTION:CLOSED
URL:https://fasttimesagility.com/event/lower-camden-dtc-obedience-rally-trial/
LOCATION:LCCDTC Training Building\,  Lindenwold NJ\, 2512 A Egg Harbor Rd\, Lindenwold\, NJ\, 08021\, United States
CATEGORIES:2021 Obedience/Rally Event
ATTACH;FMTTYPE=image/jpeg:https://fasttimesagility.com/wp-content/uploads/2021/07/image002.jpeg
END:VEVENT
END:VCALENDAR