BEGIN:VCALENDAR
VERSION:2.0
PRODID:-//Fast Times, Inc. - ECPv6.15.12.2//NONSGML v1.0//EN
CALSCALE:GREGORIAN
METHOD:PUBLISH
X-WR-CALNAME:Fast Times, Inc.
X-ORIGINAL-URL:https://fasttimesagility.com
X-WR-CALDESC:Events for Fast Times, Inc.
REFRESH-INTERVAL;VALUE=DURATION:PT1H
X-Robots-Tag:noindex
X-PUBLISHED-TTL:PT1H
BEGIN:VTIMEZONE
TZID:America/New_York
BEGIN:DAYLIGHT
TZOFFSETFROM:-0500
TZOFFSETTO:-0400
TZNAME:EDT
DTSTART:20230312T070000
END:DAYLIGHT
BEGIN:STANDARD
TZOFFSETFROM:-0400
TZOFFSETTO:-0500
TZNAME:EST
DTSTART:20231105T060000
END:STANDARD
BEGIN:DAYLIGHT
TZOFFSETFROM:-0500
TZOFFSETTO:-0400
TZNAME:EDT
DTSTART:20240310T070000
END:DAYLIGHT
BEGIN:STANDARD
TZOFFSETFROM:-0400
TZOFFSETTO:-0500
TZNAME:EST
DTSTART:20241103T060000
END:STANDARD
BEGIN:DAYLIGHT
TZOFFSETFROM:-0500
TZOFFSETTO:-0400
TZNAME:EDT
DTSTART:20250309T070000
END:DAYLIGHT
BEGIN:STANDARD
TZOFFSETFROM:-0400
TZOFFSETTO:-0500
TZNAME:EST
DTSTART:20251102T060000
END:STANDARD
END:VTIMEZONE
BEGIN:VEVENT
DTSTART;VALUE=DATE:20240607
DTEND;VALUE=DATE:20240610
DTSTAMP:20260421T043538
CREATED:20231113T231352Z
LAST-MODIFIED:20240614T214349Z
UID:13103-1717718400-1717977599@fasttimesagility.com
SUMMARY:Lower Bucks Dog Training Club
DESCRIPTION:ISC Cup Friday offering 6 classes\, 2 of each level! \nSaturday and Sunday are regular AKC trials.  \n\n\n\n2024 LOWER BUCKS JUNE TRIAL CONF LETTER SAMPLE\n\n\nGoogle docs link for Volunteer schedule:\nhttp://tinyurl.com/2024LowerBucksJuneWorkers\n\n\nLower Bucks June ISC running order\nLower Bucks June regular AKC running order\n\n\n\nLower Bucks June – Friday ISC maps\nLower Bucks June – Saturday maps\nLower Bucks June – Sunday maps\n\n\n\n\nENTRIES OPEN:  Tuesday\, April 23\, 2024 at 8 AM\nENTRIES CLOSE: Tuesday\, May 21\, 2024 at 6 PM\nLIMIT:  200 runs Friday\, 350 runs Saturday & Sunday\nTRIAL CHAIR FRIDAY: Jessica Ajoux\, email: jessica.ajoux@gmail.com\nTRIAL CHAIR SATURDAY:   Mary Pat Ezzo\, mpezzo@aol.com\nTRIAL CHAIR SUNDAY: Sabrina Andrews\, trialsec@fasttimesagility.com\nTRIAL SECRETARY:  Fast Times\, INC\, 3 Sherman CT\, Manalapan\, NJ 07726\nFax 1-888-521-1706 Click here to send us an email \n\n\n\nrevised 2024 Lower Bucks June premium\n\n\nFill able entry forms in Word or PDF. These forms can be filled out on your computer. \n\n\n2024 Lower Bucks June Word entry form\n2024 Lower Bucks June PDF entry form\n\n\n\nPlease fill out entry forms on your computer using one of the links listed above.\nThat makes it much easier for us to read all of the info for you and your dog. \nStarting 24 hours after this trial opens we will be accepting emailed and faxed entries with payment made using the PayPal link below. \nIf you are using the below PayPal option to pay your fees\, please email or fax your completed entry form once you have made your payment. \nIf you prefer to mail a paper entry & use PayPal\, please email us and let us know that the PayPal payment you made goes with a form that was put in the mail.\n\nEmailed or faxed entries will not be accepted on opening day of any trial.\nALL PayPal fees are non refundable and are the exhibitors responsibility. \n\n\n                \n                        \n                            Lower Bucks June 24'\n                             \n                        \n                        Dog Name(Required)AKC #(Required)Owner's Name(Required)Friday\, June 7\, 2024Choose One1 Run - Lower Bucks 6/7/242 Runs - Lower Bucks 6/7/243 Runs - Lower Bucks 6/7/244 Runs - Lower Bucks 6/7/245 Runs - Lower Bucks 6/7/246 Runs - Lower Bucks 6/7/24Saturday\, June 8\, 2024Choose One1 Run - Lower Bucks 6/8/242 Runs - Lower Bucks 6/8/243 Runs - Lower Bucks 6/8/244 Runs - Lower Bucks 6/8/24Just 1 Additional Run - Lower Bucks 6/8/24Sunday\, June 9\, 2024Choose One1 Run - Lower Bucks 6/9/242 Runs - Lower Bucks 6/9/243 Runs - Lower Bucks 6/9/244 Runs - Lower Bucks 6/9/24Just 1 Additional Run - Lower Bucks 6/9/24Total\n							\n						Processing Fees\n					\n				Pay Pal Fees\n            \n                $0.00\n                \n            Payment MethodPayPal Checkout\n                                    MasterCardVisaSupported Credit Cards: MasterCard\, Visa\n                                    \n                                    Card Number\n                                 \n                                            \n                                                \n                                                Expiration Date\n                                            \n                                                \n                                                 \n                                                Security Code\n                                             \n                                        \n                                            \n                                            Cardholder Name
URL:https://fasttimesagility.com/event/lower-bucks-june-2-2/
LOCATION:UDog Agility\, 1957 Pioneer Road\, Unit B6\, Huntington Valley\, PA\, 19006\, United States
CATEGORIES:2024 AKC Agility Trial
ATTACH;FMTTYPE=image/png:https://fasttimesagility.com/wp-content/uploads/2021/07/LBDTC-Logo.png
END:VEVENT
END:VCALENDAR