BEGIN:VCALENDAR
VERSION:2.0
PRODID:-//Fast Times, Inc. - ECPv6.15.12.2//NONSGML v1.0//EN
CALSCALE:GREGORIAN
METHOD:PUBLISH
X-WR-CALNAME:Fast Times, Inc.
X-ORIGINAL-URL:https://fasttimesagility.com
X-WR-CALDESC:Events for Fast Times, Inc.
REFRESH-INTERVAL;VALUE=DURATION:PT1H
X-Robots-Tag:noindex
X-PUBLISHED-TTL:PT1H
BEGIN:VTIMEZONE
TZID:UTC
BEGIN:STANDARD
TZOFFSETFROM:+0000
TZOFFSETTO:+0000
TZNAME:UTC
DTSTART:20220101T000000
END:STANDARD
END:VTIMEZONE
BEGIN:VEVENT
DTSTART;VALUE=DATE:20230521
DTEND;VALUE=DATE:20230522
DTSTAMP:20260421T102302
CREATED:20221028T193006Z
LAST-MODIFIED:20230524T115415Z
UID:8869-1684627200-1684713599@fasttimesagility.com
SUMMARY:Lower Bucks Dog Training Club
DESCRIPTION:revised 2023 LOWER BUCKS MAY TRIAL CONF LETTER SAMPLE\n\n\nGoogle docs link for Volunteer schedule:\ntinyurl.com/2023LowerBucksMayWorkers\n\n\nLower Bucks May total running order\n\n\nLower Bucks May Sunday course maps\n\n\n\n\nENTRIES OPEN:  Tuesday\, April 4\, 2023 at 8 AM\nENTRIES CLOSE: Tuesday\, May 2\, 2023 at 6 PM\nLIMIT:  350 runs \nTRIAL CHAIRPERSON: Rodger Matzke\, email: matzke5@verizon.net\nTRIAL SECRETARY:  Fast Times\, INC\, 3 Sherman CT\, Manalapan\, NJ 07726\nFax 1-888-521-1706 Click here to send us an email \n\n\n\nBoth premiums contain a fill-able entry form. Please be sure to fill out your entry before printing it out so that we can easily read all of your information. \n\n\n\n\n\n\n2023 LOWER BUCKS MAY premium.doc\n2023 LOWER BUCKS MAY premium.pdf\n\n\n\nStarting 24 hours after this trial opens we will be accepting emailed and faxed entries with payment made using the PayPal link below. \nIf you are using the below PayPal option to pay your fees\, please email or fax your completed entry form once you have made your payment. \nIf you prefer to mail a paper entry\, please email us and let us know it was put in the mail.\nIf you need a blank PDF form to fill out\, here is the link:\nPlease click here for a fill able PDF entry form for this trial \n\nEmailed or faxed entries will not be accepted on opening day of any trial.\nALL PayPal fees are non refundable and are the exhibitors responsibility. \n\n\n                \n                        \n                            Lower Bucks May\n                             \n                        \n                        Dog Name(Required)AKC #(Required)Owners Name(Required)Sunday\, May 21\, 2023Choose One1 Run - LB 5/21/232 Runs - LB 5/21/233 Runs - LB 5/21/234 Runs- LB 5/21/23Just 1 Additional Run - LB 5/21/23Total\n							\n						Processing Fees\n					\n				Pay Pal Fees\n            \n                $0.00\n                \n            Payment MethodPayPal Checkout\n                                    MasterCardVisaSupported Credit Cards: MasterCard\, Visa\n                                    \n                                    Card Number\n                                 \n                                            \n                                                \n                                                Expiration Date\n                                            \n                                                \n                                                 \n                                                Security Code\n                                             \n                                        \n                                            \n                                            Cardholder Name
URL:https://fasttimesagility.com/event/lower-bucks-dog-training-club-3-2/
LOCATION:UDog Agility\, 1957 Pioneer Road\, Unit B6\, Huntington Valley\, PA\, 19006\, United States
CATEGORIES:2023 AKC Agility Trial
ATTACH;FMTTYPE=image/png:https://fasttimesagility.com/wp-content/uploads/2021/07/LBDTC-Logo.png
END:VEVENT
END:VCALENDAR