BEGIN:VCALENDAR
VERSION:2.0
PRODID:-//Fast Times, Inc. - ECPv6.15.12.2//NONSGML v1.0//EN
CALSCALE:GREGORIAN
METHOD:PUBLISH
X-WR-CALNAME:Fast Times, Inc.
X-ORIGINAL-URL:https://fasttimesagility.com
X-WR-CALDESC:Events for Fast Times, Inc.
REFRESH-INTERVAL;VALUE=DURATION:PT1H
X-Robots-Tag:noindex
X-PUBLISHED-TTL:PT1H
BEGIN:VTIMEZONE
TZID:UTC
BEGIN:STANDARD
TZOFFSETFROM:+0000
TZOFFSETTO:+0000
TZNAME:UTC
DTSTART:20240101T000000
END:STANDARD
END:VTIMEZONE
BEGIN:VEVENT
DTSTART;VALUE=DATE:20250314
DTEND;VALUE=DATE:20250317
DTSTAMP:20260421T074350
CREATED:20241127T014043Z
LAST-MODIFIED:20250318T182122Z
UID:17403-1741910400-1742169599@fasttimesagility.com
SUMMARY:Agility Assoc of Central NJ (JAG)
DESCRIPTION:  \n\n\n\n2025 JAG MARCH FINAL TRIAL CONF LETTER SAMPLE\n\n\nGoogle docs link for Volunteer schedule: \n http://tinyurl.com/2025JAGMarchWorkers   \n\n\nJAG March total running order\n\n\n\nJAG March Friday maps\nJAG March Saturday maps\nJAG March Sunday maps\n\n\n\n\n\nENTRIES OPEN:  Tuesday\, January 28\, 2025 at 8 AM\nENTRIES CLOSE:   Tuesday\, February 25\, 2025 at 6 PM\nLIMIT: 350 Friday and 700 runs Saturday/Sunday\nTRIAL CHAIR: Alexis Snyder-Smith; Email: alexis.snyder.smith@gmail.com \nTRIAL SECRETARY:  Fast Times\, INC\, 3 Sherman CT\, Manalapan\, NJ 07726 Fax 1-888-521-1706\nClick here to send us an email \n\n\n\nrevised 2025 JAG March Premium\n\n\nFillable entry forms in Word or PDF. These forms can be filled out on your computer. \n\n\n2025 JAG March PDF entry form\n2025 JAG March Word entry form\n\n\n\nStarting 24 hours after this trial opens we will be accepting emailed and faxed entries with payment made using the PayPal link below. \nIf you are using PayPal to pay your fees\, please email or fax your completed entry form when you make payment. If you prefer to mail a paper entry form but still want to pay using the PayPal link\, please email us and let us know your form was mailed when you submit your payment so we aren’t searching email folders for a form we will not receive.\n\nPlease fill out entry forms on your computer using one of the links listed above.\nThat makes it much easier for us to read all of the info for you and your dog. \nEmailed or faxed entries will not be accepted on opening day of any trial.\nALL PayPal fees are non refundable and are the exhibitors responsibility.\nPayPal is only accepted for this trial using the payment link found on this page. \n\n\n                \n                        \n                            2025 JAG March\n                             \n                        \n                        Dog Name(Required)AKC #(Required)Owner's Name(Required)Friday\, March 14\, 2025Choose One1 Run - JAG 3/14/252 Runs - JAG 3/14/253 Runs - JAG 3/14/254 Runs - JAG 3/14/255 Runs - JAG 3/14/256 Runs - JAG 3/14/25Just 1 Additional Run - JAG 3/14/25Saturday\, March 15\, 2025Choose One1 Run - JAG 3/15/252 Runs - JAG 3/15/253 Runs - JAG 3/15/254 Runs - JAG 3/15/255 Runs - JAG 3/15/256 Runs - JAG 3/15/25Just 1 Additional Run - JAG 3/15/25Sunday\, March 16\, 2025Choose One1 Run - JAG 3/16/252 Runs - JAG 3/16/253 Runs - JAG 3/16/254 Runs - JAG 3/16/255 Runs - JAG 3/16/256 Runs - JAG 3/16/25Just 1 Additional Run - JAG 3/16/25Total\n							\n						Processing Fee\n					\n				Pay Pal Fees\n            \n                $0.00\n                \n            Payment MethodPayPal Checkout\n                                    MasterCardVisaSupported Credit Cards: MasterCard\, Visa\n                                    \n                                    Card Number\n                                 \n                                            \n                                                \n                                                Expiration Date\n                                            \n                                                \n                                                 \n                                                Security Code\n                                             \n                                        \n                                            \n                                            Cardholder Name
URL:https://fasttimesagility.com/event/jag-march-2025/
LOCATION:Premier Sports Center\, LLC\, 3 Coleman Ct.\, Southampton\, NJ\, 08088\, United States
CATEGORIES:2025 AKC Agility Trial
ATTACH;FMTTYPE=image/gif:https://fasttimesagility.com/wp-content/uploads/2021/07/JAG-LOGO2.gif
END:VEVENT
END:VCALENDAR