BEGIN:VCALENDAR
VERSION:2.0
PRODID:-//Fast Times, Inc. - ECPv6.15.12.2//NONSGML v1.0//EN
CALSCALE:GREGORIAN
METHOD:PUBLISH
X-WR-CALNAME:Fast Times, Inc.
X-ORIGINAL-URL:https://fasttimesagility.com
X-WR-CALDESC:Events for Fast Times, Inc.
REFRESH-INTERVAL;VALUE=DURATION:PT1H
X-Robots-Tag:noindex
X-PUBLISHED-TTL:PT1H
BEGIN:VTIMEZONE
TZID:UTC
BEGIN:STANDARD
TZOFFSETFROM:+0000
TZOFFSETTO:+0000
TZNAME:UTC
DTSTART:20230101T000000
END:STANDARD
END:VTIMEZONE
BEGIN:VEVENT
DTSTART;VALUE=DATE:20240315
DTEND;VALUE=DATE:20240318
DTSTAMP:20260421T060527
CREATED:20231105T183305Z
LAST-MODIFIED:20240320T120740Z
UID:13142-1710460800-1710719999@fasttimesagility.com
SUMMARY:Agility Assoc of Central NJ (JAG)
DESCRIPTION:  \n\n\n\n2024 JAG MARCH FINAL TRIAL CONF LETTER SAMPLE\n\n\nGoogle docs link for Volunteer schedule: \nhttp://tinyurl.com/2024JAGMarchWorkers\n\n\nJAG March total running order\nJAG March Friday course maps\nJAG March Saturday course maps\nJAG March Sunday course maps\n\n\n\n\nENTRIES OPEN:  Tuesday\, January 30th\, 2024 at 8 AM\nENTRIES CLOSE:   Tuesday\, February 27\, 2024 at 6 PM\nLIMIT: 350 Friday and 700 runs Saturday/Sunday\nTRIAL CHAIR: Pam Larson; Email:pamandjake10@gmail.com \nTRIAL SECRETARY:  Fast Times\, INC\, 3 Sherman CT\, Manalapan\, NJ 07726 Fax 1-888-521-1706\nClick here to send us an email \n\n\n\n2024 JAG March Premium\n\n\nFillable entry forms in Word or PDF. These forms can be filled out on your computer. \n\n\n2024 JAG March Word entry form\n2024 JAG March PDF entry form\n\n\n\nStarting 24 hours after this trial opens we will be accepting emailed and faxed entries with payment made using the PayPal link below. \nIf you are using the below PayPal option to pay your fees\, please email or fax your completed entry form once you have made your payment. \nIf you prefer to mail a paper entry\, please email us and let us know it was put in the mail.\nIf you need a blank entry form to fill out\, use one of the fill-able forms above.\n \nEmailed or faxed entries will not be accepted on opening day of any trial.\nALL PayPal fees are non refundable and are the exhibitors responsibility. \n  \n\n\n                \n                        \n                            JAG March 2024\n                             \n                        \n                        Dog Name(Required)AKC #(Required)Owner's Name(Required)Friday\, March 15\, 2024Choose One1 Run - JAG 3/15/242 Runs - JAG 3/15/243 Runs - JAG 3/15/244 Runs - JAG 3/15/245 Runs - JAG 3/15/24Just 1 Additional Run - JAG 3/15/24Saturday\, March 16\, 2024Choose One1 Run - JAG 3/16/242 Runs - JAG 3/16/243 Runs - JAG 3/16/244 Runs - JAG 3/16/245 Runs - JAG 3/16/246 Runs - JAG 3/16/24Just 1 Additional Run - JAG 3/16/24Sunday\, March 17\, 2024Choose One1 Run - JAG 3/17/242 Runs - JAG 3/17/243 Runs - JAG 3/17/244 Runs - JAG 3/17/245 Runs - JAG 3/17/246 Runs - JAG 3/17/24Just 1 Additional Run - JAG 3/17/24Total\n							\n						Processing Fee\n					\n				Pay Pal Fees\n            \n                $0.00\n                \n            Payment MethodPayPal Checkout\n                                    MasterCardVisaSupported Credit Cards: MasterCard\, Visa\n                                    \n                                    Card Number\n                                 \n                                            \n                                                \n                                                Expiration Date\n                                            \n                                                \n                                                 \n                                                Security Code\n                                             \n                                        \n                                            \n                                            Cardholder Name
URL:https://fasttimesagility.com/event/jag-march-2024-2/
LOCATION:Premier Sports Center\, LLC\, 3 Coleman Ct.\, Southampton\, NJ\, 08088\, United States
CATEGORIES:2024 AKC Agility Trial
ATTACH;FMTTYPE=image/gif:https://fasttimesagility.com/wp-content/uploads/2021/07/JAG-LOGO2.gif
END:VEVENT
END:VCALENDAR