BEGIN:VCALENDAR
VERSION:2.0
PRODID:-//Fast Times, Inc. - ECPv6.15.12.2//NONSGML v1.0//EN
CALSCALE:GREGORIAN
METHOD:PUBLISH
X-WR-CALNAME:Fast Times, Inc.
X-ORIGINAL-URL:https://fasttimesagility.com
X-WR-CALDESC:Events for Fast Times, Inc.
REFRESH-INTERVAL;VALUE=DURATION:PT1H
X-Robots-Tag:noindex
X-PUBLISHED-TTL:PT1H
BEGIN:VTIMEZONE
TZID:UTC
BEGIN:STANDARD
TZOFFSETFROM:+0000
TZOFFSETTO:+0000
TZNAME:UTC
DTSTART:20230101T000000
END:STANDARD
END:VTIMEZONE
BEGIN:VEVENT
DTSTART;VALUE=DATE:20240406
DTEND;VALUE=DATE:20240408
DTSTAMP:20260421T093128
CREATED:20231113T215609Z
LAST-MODIFIED:20240408T034858Z
UID:13118-1712361600-1712534399@fasttimesagility.com
SUMMARY:Gloucester County Kennel Club
DESCRIPTION:2024 GLOUCESTER APRIL FINAL TRIAL CONF LETTER SAMPLE\n\n\nGoogle docs link for Volunteer schedule\nhttp://tinyurl.com/2024GloucesterAprilWorkers\n\n\nGloucester total running order\n\n\n\nGloucester Saturday course maps\nGloucester Sunday course maps\n\n\n\n\n\nENTRIES OPEN:  Tuesday\, February 20\, 2024 at 8 AM\nENTRIES CLOSE: Tuesday\, March 19\, 2024 at 6 PM\nLIMIT:  700 runs per day\nTRIAL CHAIRPERSONS: Priscilla Gabosch\,  email: pagabosch@snip.net \nTRIAL SECRETARY:  Fast Times\, INC\, 3 Sherman CT\, Manalapan\, NJ 07726 Fax 1-888-521-1706\nClick here to send us an email \n\n\n\n2024 Gloucester April Premium\n\n\nFillable entry forms in Word or PDF. These forms can be filled out on your computer. \n\n\n2024 Gloucester April Word entry form\n2024 Gloucester April PDF entry form\n\n\n\nStarting 24 hours after this trial opens we will be accepting emailed and faxed entries with payment made using the PayPal link below. \nIf you are using the below PayPal option to pay your fees\, please email or fax your completed entry form once you have made your payment. \nIf you prefer to mail a paper entry\, please email us and let us know that the PayPal payment you made goes with a form that was put in the mail.\n\nEmailed or faxed entries will not be accepted on opening day of any trial.\nALL PayPal fees are non refundable and are the exhibitors responsibility. \n\n\n                \n                        \n                            Gloucester 2024\n                             \n                        \n                        Dog Name(Required)AKC #(Required)Owners Name(Required)Saturday\, April 6\, 2024Choose One1 Run - Gloucester 4/6/242 Runs - Gloucester 4/6/243 Runs - Gloucester 4/6/244 Runs - Gloucester 4/6/245 Runs - Gloucester 4/6/246 Runs - Gloucester 4/6/24Just 1 Additional Run - Gloucester 4/6/24Sunday. April 7\, 2024Choose One1 Run - Gloucester 4/7/242 Runs - Gloucester 4/7/243 Runs - Gloucester 4/7/244 Runs - Gloucester 4/7/245 Runs - Gloucester 4/7/246 Runs - Gloucester 4/7/24Just 1 Additional Run - Gloucester 4/7/24Total\n							\n						Processing Fees\n					\n				Pay Pal Fees\n            \n                $0.00\n                \n            Payment MethodPayPal Checkout\n                                    MasterCardVisaSupported Credit Cards: MasterCard\, Visa\n                                    \n                                    Card Number\n                                 \n                                            \n                                                \n                                                Expiration Date\n                                            \n                                                \n                                                 \n                                                Security Code\n                                             \n                                        \n                                            \n                                            Cardholder Name
URL:https://fasttimesagility.com/event/gloucester-county-kennel-club-2024/
LOCATION:Premier Sports Center\, LLC\, 3 Coleman Ct.\, Southampton\, NJ\, 08088\, United States
CATEGORIES:2024 AKC Agility Trial
ATTACH;FMTTYPE=image/png:https://fasttimesagility.com/wp-content/uploads/2021/11/Gloucester.png
END:VEVENT
END:VCALENDAR