BEGIN:VCALENDAR
VERSION:2.0
PRODID:-//Fast Times, Inc. - ECPv6.15.12.2//NONSGML v1.0//EN
CALSCALE:GREGORIAN
METHOD:PUBLISH
X-WR-CALNAME:Fast Times, Inc.
X-ORIGINAL-URL:https://fasttimesagility.com
X-WR-CALDESC:Events for Fast Times, Inc.
REFRESH-INTERVAL;VALUE=DURATION:PT1H
X-Robots-Tag:noindex
X-PUBLISHED-TTL:PT1H
BEGIN:VTIMEZONE
TZID:UTC
BEGIN:STANDARD
TZOFFSETFROM:+0000
TZOFFSETTO:+0000
TZNAME:UTC
DTSTART:20200101T000000
END:STANDARD
END:VTIMEZONE
BEGIN:VEVENT
DTSTART;VALUE=DATE:20210402
DTEND;VALUE=DATE:20210404
DTSTAMP:20260420T133039
CREATED:20210727T194936Z
LAST-MODIFIED:20220518T193551Z
UID:2709-1617321600-1617494399@fasttimesagility.com
SUMMARY:Staten Island Companion Dog Training Club
DESCRIPTION:SICDTC APRIL QUALIFIERS \nSG-FRIDAY STD \nSG-FRIDAY JWW \nSG-FRIDAY PREM STD \nSG-FRIDAY PREM JWW \nIH-FRIDAY STD \nIH-FRIDAY JWW \nIH-FRIDAY PREM STD \nIH-FRIDAY PREM JWW \nSATURDAY STD \nSATURDAY JWW \nSATURDAY FAST \nSATURDAY T2B \nSATURDAY PREM STD \nSATURDAY PREM JWW
URL:https://fasttimesagility.com/event/friday-double-ex-mas-premier-also-holding-fast-cat-both-days-staten-island-companion-dog-training-club/
LOCATION:Horse Park of New Jersey\, 626 Rte 524\,\, NJ\, Allentown\, NJ\, 08501\, United States
CATEGORIES:2021 AKC Agility Trial
ATTACH;FMTTYPE=image/png:https://fasttimesagility.com/wp-content/uploads/2021/07/logoandtext2-copy.png
END:VEVENT
END:VCALENDAR