BEGIN:VCALENDAR
VERSION:2.0
PRODID:-//Fast Times, Inc. - ECPv6.15.12.2//NONSGML v1.0//EN
CALSCALE:GREGORIAN
METHOD:PUBLISH
X-WR-CALNAME:Fast Times, Inc.
X-ORIGINAL-URL:https://fasttimesagility.com
X-WR-CALDESC:Events for Fast Times, Inc.
REFRESH-INTERVAL;VALUE=DURATION:PT1H
X-Robots-Tag:noindex
X-PUBLISHED-TTL:PT1H
BEGIN:VTIMEZONE
TZID:America/New_York
BEGIN:DAYLIGHT
TZOFFSETFROM:-0500
TZOFFSETTO:-0400
TZNAME:EDT
DTSTART:20240310T070000
END:DAYLIGHT
BEGIN:STANDARD
TZOFFSETFROM:-0400
TZOFFSETTO:-0500
TZNAME:EST
DTSTART:20241103T060000
END:STANDARD
BEGIN:DAYLIGHT
TZOFFSETFROM:-0500
TZOFFSETTO:-0400
TZNAME:EDT
DTSTART:20250309T070000
END:DAYLIGHT
BEGIN:STANDARD
TZOFFSETFROM:-0400
TZOFFSETTO:-0500
TZNAME:EST
DTSTART:20251102T060000
END:STANDARD
BEGIN:DAYLIGHT
TZOFFSETFROM:-0500
TZOFFSETTO:-0400
TZNAME:EDT
DTSTART:20260308T070000
END:DAYLIGHT
BEGIN:STANDARD
TZOFFSETFROM:-0400
TZOFFSETTO:-0500
TZNAME:EST
DTSTART:20261101T060000
END:STANDARD
END:VTIMEZONE
BEGIN:VEVENT
DTSTART;VALUE=DATE:20250927
DTEND;VALUE=DATE:20250929
DTSTAMP:20260421T043307
CREATED:20241222T211825Z
LAST-MODIFIED:20250930T070147Z
UID:17348-1758931200-1759103999@fasttimesagility.com
SUMMARY:Fall Fiesta "Fun"raiser
DESCRIPTION:We are still accepting entries!! \n \nHere is the planned running order:\nSaturday:\nISC Agility A2\nMas STD\nTunnelers 1\nTunnelers 2\nISC Jumping J2\nMas JWW \nSunday:\nISC Jumping J1\nMas JWW\nTunnelers 1\nTunnelers 2\nISC Agility A1\nMas STD \n\n\n\n2025 Fall Fiesta Fun Raiser PDF entry form\n\n\n\nENTRIES OPEN:  Tuesday\, August 12\, 2025 at 8 AM\nLIMIT: TBD each day\nSHOW CONTACT:  Fast Times\, INC\, 3 Sherman CT\, Manalapan\, NJ 07726\nFax 1-888-521-1706 Click here to send us an email \nTo enter online you will need to create an account and be logged in. \nOnce you are logged in\, the form will appear below. \nWhen creating an account\, you will receive an email to activate it. \nThis email may go to your spam folder so be sure to check there.\nOnline entries open @ 8am on opening day!\nEntry forms are not required to be emailed when entering online.\nPayPal fees are non refundable and are the exhibitors responsibility. \nPlease login or register at https://fasttimesagility.com/my-account
URL:https://fasttimesagility.com/event/fffr/
LOCATION:UDog Agility\, 1957 Pioneer Road\, Unit B6\, Huntington Valley\, PA\, 19006\, United States
CATEGORIES:2025 AKC Agility Trial
ATTACH;FMTTYPE=image/jpeg:https://fasttimesagility.com/wp-content/uploads/2019/04/ft-logo-2021.jpg
END:VEVENT
END:VCALENDAR