BEGIN:VCALENDAR
VERSION:2.0
PRODID:-//Fast Times, Inc. - ECPv6.15.12.2//NONSGML v1.0//EN
CALSCALE:GREGORIAN
METHOD:PUBLISH
X-WR-CALNAME:Fast Times, Inc.
X-ORIGINAL-URL:https://fasttimesagility.com
X-WR-CALDESC:Events for Fast Times, Inc.
REFRESH-INTERVAL;VALUE=DURATION:PT1H
X-Robots-Tag:noindex
X-PUBLISHED-TTL:PT1H
BEGIN:VTIMEZONE
TZID:UTC
BEGIN:STANDARD
TZOFFSETFROM:+0000
TZOFFSETTO:+0000
TZNAME:UTC
DTSTART:20250101T000000
END:STANDARD
END:VTIMEZONE
BEGIN:VEVENT
DTSTART;VALUE=DATE:20260213
DTEND;VALUE=DATE:20260217
DTSTAMP:20260419T090410
CREATED:20250922T143605Z
LAST-MODIFIED:20260217T194013Z
UID:20931-1770940800-1771286399@fasttimesagility.com
SUMMARY:Delaware County Kennel Club Feb-1
DESCRIPTION:Offering ISC A1 & J1 classes on Saturday & Sunday. \nCourses designed and judged by AKC judge Lisa Loomis.  \nDCKC has arranged a room block at the Hampton Inn for their Dream Park trials.\nPlease click here for more information. \n\n\n\n2026 DCKC FEB 1 FINAL TRIAL CONF LETTER SAMPLE\n\n\nGoogle docs link for Volunteer schedule: \n http://tinyurl.com/2026DCKC-Feb1Workers\n\n\nDCKC FEB-1 total running order\n\n\n\n\nENTRIES OPEN:  Tuesday\, December 30\, 2025 at 8 AM\nENTRIES CLOSE: Tuesday\, January 27\, 2026 at 6 PM\nLIMIT:  350 runs on Friday and 700 runs Saturday and Sunday\nTRIAL CHAIRPERSONS: Jennifer Rhyshek\,  email: jarhyshek@yahoo.com\nTRIAL SECRETARY:  Fast Times\, INC\, 3 Sherman CT\, Manalapan\, NJ 07726 Fax 1-888-521-1706\nClick here to send us an email\n \n\n\n\nrevised 2026 DCKC Feb-1 Premium\n\n\nFill able entry forms in Word or PDF. These forms can be filled out on your computer. \n\n\n2026 DCKC Feb-1 PDF entry form\n2026 DCKC Feb-1 Word entry form\n\n\n\nTo enter online you will need to create an account on the Fast Times website & be logged in.\nWhen creating an account\, you will receive an email to activate it.\nThis email may go to your spam folder so be sure to check there.\nOnce you are logged in\, the form will appear below.\nOnline entries open @ 8am on opening day!\nEntry forms are not required when entering online.\nALL PayPal fees are non refundable and are the exhibitors responsibility. \nTo enter online\, please login to your account. If you have not done so\, please create an account\, ACTIVATE IT\, and then log in at https://fasttimesagility.com/my-account.  The form to enter online will appear once you are logged in. Be sure to add your dog/dogs to your account before entering so that all of their info auto populates into the form.
URL:https://fasttimesagility.com/event/dckc-feb1-2026/
LOCATION:Gloucester County DREAM Park\, 400 US-130\, Logan Township\, NJ\, 08085\, United States
CATEGORIES:2026 AKC Agility Trial
ATTACH;FMTTYPE=image/jpeg:https://fasttimesagility.com/wp-content/uploads/2021/11/delaware_county_kennel_club.jpg
END:VEVENT
END:VCALENDAR