BEGIN:VCALENDAR
VERSION:2.0
PRODID:-//Fast Times, Inc. - ECPv6.15.12.2//NONSGML v1.0//EN
CALSCALE:GREGORIAN
METHOD:PUBLISH
X-WR-CALNAME:Fast Times, Inc.
X-ORIGINAL-URL:https://fasttimesagility.com
X-WR-CALDESC:Events for Fast Times, Inc.
REFRESH-INTERVAL;VALUE=DURATION:PT1H
X-Robots-Tag:noindex
X-PUBLISHED-TTL:PT1H
BEGIN:VTIMEZONE
TZID:America/New_York
BEGIN:DAYLIGHT
TZOFFSETFROM:-0500
TZOFFSETTO:-0400
TZNAME:EDT
DTSTART:20250309T070000
END:DAYLIGHT
BEGIN:STANDARD
TZOFFSETFROM:-0400
TZOFFSETTO:-0500
TZNAME:EST
DTSTART:20251102T060000
END:STANDARD
BEGIN:DAYLIGHT
TZOFFSETFROM:-0500
TZOFFSETTO:-0400
TZNAME:EDT
DTSTART:20260308T070000
END:DAYLIGHT
BEGIN:STANDARD
TZOFFSETFROM:-0400
TZOFFSETTO:-0500
TZNAME:EST
DTSTART:20261101T060000
END:STANDARD
BEGIN:DAYLIGHT
TZOFFSETFROM:-0500
TZOFFSETTO:-0400
TZNAME:EDT
DTSTART:20270314T070000
END:DAYLIGHT
BEGIN:STANDARD
TZOFFSETFROM:-0400
TZOFFSETTO:-0500
TZNAME:EST
DTSTART:20271107T060000
END:STANDARD
END:VTIMEZONE
BEGIN:VEVENT
DTSTART;VALUE=DATE:20260411
DTEND;VALUE=DATE:20260413
DTSTAMP:20260421T043645
CREATED:20250922T142520Z
LAST-MODIFIED:20260414T032441Z
UID:20908-1775865600-1776038399@fasttimesagility.com
SUMMARY:Brandywine Valley Australian Shepherd Club (BVASC)
DESCRIPTION:  \nASCA Agility trial April 11-12\, 2026 being held at United Dog\, LLC \nLooking for a great training opportunity??\nCome out and work with your dogs in a real trial environment.\nTraining in the ring is allowed in all classes\, with or without a toy! \nThis event is open to all breeds of dog 15 months or older.\nDogs do not need to be registered w/ASCA to participate. \nThere will be 4 courses each day with contact equipment\, 2 courses with just jumps and a tunnelers run mid day Saturday\, just for fun! \nPlease reach out if you have any questions. We will be taking day of entries if runs are available. Send us an email if you have questions: trialsec@fasttimesagility.com \n\n\n\n2026 BVASC April Premium\n\n\n2026 BVASC April entry form\n\n\n\nTo enter online\, email us your completed entry form and use the PayPal link below.\nPayPal fees are non-refundable and are the exhibitor’s responsibility. \n\n\n                \n                        \n                            BVASC ASCA April 2026\n                             \n                        \n                        Dog Name(Required)Owner's Name(Required)total number of classes entering this weekend for 1 dogChoose One1 Run - BVASC April 26'2 Runs - BVASC April 26'3 Runs - BVASC April 26'4 Runs - BVASC April 26'5 Runs - BVASC April 26'6 Runs - BVASC April 26'7 Runs - BVASC April 26'8 Runs - BVASC April 26'9 Runs - BVASC April 26'10 Runs - BVASC April 26'11 Runs - BVASC April 26'All 12 run pkg price - BVASC April 26'Total\n							\n						Processing Fees\n					\n				Pay Pal Fees\n            \n                $0.00\n                \n            Payment MethodPayPal Checkout\n                                    MasterCardVisaSupported Credit Cards: MasterCard\, Visa\n                                    \n                                    Card Number\n                                 \n                                            \n                                                \n                                                Expiration Date\n                                            \n                                                \n                                                 \n                                                Security Code\n                                             \n                                        \n                                            \n                                            Cardholder Name
URL:https://fasttimesagility.com/event/bvasc-april-2026/
LOCATION:UDog Agility\, 1957 Pioneer Road\, Unit B6\, Huntington Valley\, PA\, 19006\, United States
CATEGORIES:2026 AKC Agility Trial
ATTACH;FMTTYPE=image/jpeg:https://fasttimesagility.com/wp-content/uploads/2023/02/BVASC-logo.jpg
END:VEVENT
END:VCALENDAR