BEGIN:VCALENDAR
VERSION:2.0
PRODID:-//Fast Times, Inc. - ECPv6.15.12.2//NONSGML v1.0//EN
CALSCALE:GREGORIAN
METHOD:PUBLISH
X-WR-CALNAME:Fast Times, Inc.
X-ORIGINAL-URL:https://fasttimesagility.com
X-WR-CALDESC:Events for Fast Times, Inc.
REFRESH-INTERVAL;VALUE=DURATION:PT1H
X-Robots-Tag:noindex
X-PUBLISHED-TTL:PT1H
BEGIN:VTIMEZONE
TZID:America/New_York
BEGIN:DAYLIGHT
TZOFFSETFROM:-0500
TZOFFSETTO:-0400
TZNAME:EDT
DTSTART:20210314T070000
END:DAYLIGHT
BEGIN:STANDARD
TZOFFSETFROM:-0400
TZOFFSETTO:-0500
TZNAME:EST
DTSTART:20211107T060000
END:STANDARD
BEGIN:DAYLIGHT
TZOFFSETFROM:-0500
TZOFFSETTO:-0400
TZNAME:EDT
DTSTART:20220313T070000
END:DAYLIGHT
BEGIN:STANDARD
TZOFFSETFROM:-0400
TZOFFSETTO:-0500
TZNAME:EST
DTSTART:20221106T060000
END:STANDARD
BEGIN:DAYLIGHT
TZOFFSETFROM:-0500
TZOFFSETTO:-0400
TZNAME:EDT
DTSTART:20230312T070000
END:DAYLIGHT
BEGIN:STANDARD
TZOFFSETFROM:-0400
TZOFFSETTO:-0500
TZNAME:EST
DTSTART:20231105T060000
END:STANDARD
END:VTIMEZONE
BEGIN:VEVENT
DTSTART;VALUE=DATE:20221210
DTEND;VALUE=DATE:20221212
DTSTAMP:20260421T133106
CREATED:20221205T193515Z
LAST-MODIFIED:20221213T161000Z
UID:9521-1670630400-1670803199@fasttimesagility.com
SUMMARY:Brandywine Valley Australian Shepherd Club (BVASC)
DESCRIPTION:Come out this weekend and work with your dog.\nOur Australian Shepherd club is holding an event at United Dog sanctioned by ASCA.\nThis event is open to all breeds of dog 15 months or older.\nDogs do not need to be registered to participate.\nTraining in the ring is allowed in all classes\, with or without a toy! \nThere will be 4 courses each day with contact equipment and 2 courses with just jumps (and possibly tunnels). \nPlease reach out if you have any questions. We will be taking entries at the event but it would be better if you could email your entry so we can get you and your dog into our system. Email address for questions: trialsec@fasttimesagility.com \n\n\n\nBVASC December 2022 Premium
URL:https://fasttimesagility.com/event/brandywine-valley-australian-shepherd-club-bvasc/
LOCATION:UDog Agility\, 1957 Pioneer Road\, Unit B6\, Huntington Valley\, PA\, 19006\, United States
CATEGORIES:2022 AKC Agility Trial
END:VEVENT
END:VCALENDAR