BEGIN:VCALENDAR
VERSION:2.0
PRODID:-//Fast Times, Inc. - ECPv6.15.12.2//NONSGML v1.0//EN
CALSCALE:GREGORIAN
METHOD:PUBLISH
X-WR-CALNAME:Fast Times, Inc.
X-ORIGINAL-URL:https://fasttimesagility.com
X-WR-CALDESC:Events for Fast Times, Inc.
REFRESH-INTERVAL;VALUE=DURATION:PT1H
X-Robots-Tag:noindex
X-PUBLISHED-TTL:PT1H
BEGIN:VTIMEZONE
TZID:UTC
BEGIN:STANDARD
TZOFFSETFROM:+0000
TZOFFSETTO:+0000
TZNAME:UTC
DTSTART:20210101T000000
END:STANDARD
END:VTIMEZONE
BEGIN:VEVENT
DTSTART;VALUE=DATE:20220128
DTEND;VALUE=DATE:20220131
DTSTAMP:20260421T081551
CREATED:20211103T011349Z
LAST-MODIFIED:20220518T192453Z
UID:3531-1643328000-1643587199@fasttimesagility.com
SUMMARY:Bayshore Companion Dog Club
DESCRIPTION:Attention exhibitors…. \nSunday’s trial WILL be taking place\, but will start at 9:30am at the Bayshore Companion Dog Club training facility.\n \n\n\n\n2022 Bayshore January judging program-pdf\n\n\n\n  \nENTRIES OPEN:  Wednesday\, December 15\, 2021 at 8 AM\nENTRIES CLOSE:   Wednesday\, January 12\, 2022 at 6 PM\nLIMITS:  7 judging hours per Obedience event & 50 runs per Rally event\nTRIAL SECRETARY:  Fast Times\, INC\, 3 Sherman CT\, Manalapan\, NJ 07726 Fax 1-888-521-1706\nClick here to send us an email\n \n\n\n\n2022 Bayshore Jan OB-RALLY premium-pdf
URL:https://fasttimesagility.com/event/bayshore-companion-dog-club-rally-obedience-trial/
LOCATION:Bayshore Companion Dog Club\, 2962 Shafto Rd\, Tinton Falls\, NJ\, 07726\, United States
CATEGORIES:2022 Obedience/Rally Event
ATTACH;FMTTYPE=image/jpeg:https://fasttimesagility.com/wp-content/uploads/2021/07/BAYSHORE-CDTC-R3-04.jpeg
END:VEVENT
END:VCALENDAR