BEGIN:VCALENDAR
VERSION:2.0
PRODID:-//Fast Times, Inc. - ECPv6.15.12.2//NONSGML v1.0//EN
CALSCALE:GREGORIAN
METHOD:PUBLISH
X-WR-CALNAME:Fast Times, Inc.
X-ORIGINAL-URL:https://fasttimesagility.com
X-WR-CALDESC:Events for Fast Times, Inc.
REFRESH-INTERVAL;VALUE=DURATION:PT1H
X-Robots-Tag:noindex
X-PUBLISHED-TTL:PT1H
BEGIN:VTIMEZONE
TZID:America/New_York
BEGIN:DAYLIGHT
TZOFFSETFROM:-0500
TZOFFSETTO:-0400
TZNAME:EDT
DTSTART:20230312T070000
END:DAYLIGHT
BEGIN:STANDARD
TZOFFSETFROM:-0400
TZOFFSETTO:-0500
TZNAME:EST
DTSTART:20231105T060000
END:STANDARD
BEGIN:DAYLIGHT
TZOFFSETFROM:-0500
TZOFFSETTO:-0400
TZNAME:EDT
DTSTART:20240310T070000
END:DAYLIGHT
BEGIN:STANDARD
TZOFFSETFROM:-0400
TZOFFSETTO:-0500
TZNAME:EST
DTSTART:20241103T060000
END:STANDARD
BEGIN:DAYLIGHT
TZOFFSETFROM:-0500
TZOFFSETTO:-0400
TZNAME:EDT
DTSTART:20250309T070000
END:DAYLIGHT
BEGIN:STANDARD
TZOFFSETFROM:-0400
TZOFFSETTO:-0500
TZNAME:EST
DTSTART:20251102T060000
END:STANDARD
END:VTIMEZONE
BEGIN:VEVENT
DTSTART;VALUE=DATE:20240615
DTEND;VALUE=DATE:20240617
DTSTAMP:20260421T093252
CREATED:20231113T231039Z
LAST-MODIFIED:20240618T170101Z
UID:13104-1718409600-1718582399@fasttimesagility.com
SUMMARY:Agility Assoc of Central NJ (JAG)
DESCRIPTION:2024 JAG JUNE FINAL TRIAL CONF LETTER SAMPLE\n\n\nPlease use Google docs links to volunteer:\n http://tinyurl.com/2024JAGJuneWorkers\n\n\n2024 JAG June total running order\n\n\n\nJAG June Saturday maps\nJAG June Sunday maps\n\n\n\n\n  \nENTRIES OPEN:  Tuesday\, April 30\, 2024 at 8 AM\nENTRIES CLOSE: Tuesday\, May 28\, 2024 at 6 PM\nLIMIT:  700 runs per day\nTRIAL CHAIRPERSON: Ira Dauer\, email: irad049@yahoo.com \nTRIAL SECRETARY:  Fast Times\, INC\, 3 Sherman CT\, Manalapan\, NJ 07726\nFax 1-888-521-1706 Click here to send us an email \n\n\n\n2024 JAG June premium\n\n\nFill able entry forms in Word or PDF. These forms can be filled out on your computer. \n\n\n2024 JAG June Word entry form\n2024 JAG June PDF entry form\n\n\n\nStarting 24 hours after this trial opens we will be accepting emailed and faxed entries with payment made using the PayPal link below. \nIf you are using PayPal to pay your fees\, please email or fax your completed entry form when you make payment. If you prefer to mail a paper entry for but still want to pay using the PayPal link\, please email us and let us know your form was mailed when you submit your payment so we aren’t searching email folders for a form we will not receive. \n\nPlease fill out entry forms on your computer using one of the links listed above.\nThat makes it much easier for us to read all of the info for you and your dog. \nEmailed or faxed entries will not be accepted on opening day of any trial.\nALL PayPal fees are non refundable and are the exhibitors responsibility.\nPayPal is only accepted for this trial using the payment link found on this page. \n  \n\n\n                \n                        \n                            JAG June 24'\n                             \n                        \n                        Dog Name(Required)AKC #(Required)Owners Name(Required)Saturday June 15\, 2024Choose One1 Run - JAG 6/15/242 Runs - JAG 6/15/243 Runs - JAG 6/15/244 Runs - JAG 6/15/245 Runs - JAG 6/15/246 Runs - JAG 6/15/24Just 1 Additional Run - JAG 6/15/24Sunday June 16\, 2024Choose One1 Run - JAG 6/16/242 Runs - JAG 6/16/243 Runs - JAG 6/16/244 Runs - JAG 6/16/245 Runs - JAG 6/16/246 Runs - JAG 6/16/24Just 1 Additional Run - JAG 6/16/24Total\n							\n						Processing Fees\n					\n				Pay Pal Fees\n            \n                $0.00\n                \n            Payment MethodPayPal Checkout\n                                    MasterCardVisaSupported Credit Cards: MasterCard\, Visa\n                                    \n                                    Card Number\n                                 \n                                            \n                                                \n                                                Expiration Date\n                                            \n                                                \n                                                 \n                                                Security Code\n                                             \n                                        \n                                            \n                                            Cardholder Name
URL:https://fasttimesagility.com/event/agility-assoc-of-central-nj-jag-3-2-2/
LOCATION:Sportika\, 150 Woodward Rd\, Manalapan Township\, NJ\, 07726\, United States
CATEGORIES:2024 AKC Agility Trial
ATTACH;FMTTYPE=image/gif:https://fasttimesagility.com/wp-content/uploads/2021/07/JAG-LOGO2.gif
END:VEVENT
END:VCALENDAR