BEGIN:VCALENDAR
VERSION:2.0
PRODID:-//Fast Times, Inc. - ECPv6.15.12.2//NONSGML v1.0//EN
CALSCALE:GREGORIAN
METHOD:PUBLISH
X-WR-CALNAME:Fast Times, Inc.
X-ORIGINAL-URL:https://fasttimesagility.com
X-WR-CALDESC:Events for Fast Times, Inc.
REFRESH-INTERVAL;VALUE=DURATION:PT1H
X-Robots-Tag:noindex
X-PUBLISHED-TTL:PT1H
BEGIN:VTIMEZONE
TZID:UTC
BEGIN:STANDARD
TZOFFSETFROM:+0000
TZOFFSETTO:+0000
TZNAME:UTC
DTSTART:20210101T000000
END:STANDARD
END:VTIMEZONE
BEGIN:VEVENT
DTSTART;VALUE=DATE:20220318
DTEND;VALUE=DATE:20220321
DTSTAMP:20260421T093237
CREATED:20211103T035425Z
LAST-MODIFIED:20220518T192325Z
UID:3547-1647561600-1647820799@fasttimesagility.com
SUMMARY:Agility Assoc of Central NJ (JAG)
DESCRIPTION:2022 JAG March sample final confirmation-pdf\n\n\nGoogle docs link for Volunteer schedule:\nhttp://tinyurl.com/2022JAGMarchWorkers\n\n\n\ntotal running order\n\n\n2022 JAG March Friday course maps\n2022 JAG March Saturday course maps\n2022 JAG March Sunday course maps\n\n\n\n\nENTRIES OPEN:  Tuesday\, February 1st\, 2022 at 8 AM\nENTRIES CLOSE:   Tuesday\, March 1st\, 2022 at 6 PM\nLIMIT: 350 Friday and 700 runs Saturday/Sunday\nTRIAL CHAIR: Carol Mount; Email: candmydogs@optonline.net  \nTRIAL SECRETARY:  Fast Times\, INC\, 3 Sherman CT\, Manalapan\, NJ 07726 Fax 1-888-521-1706\nClick here to send us an email \n\n\n\n2022 JAG MARCH Premium-doc\n2022 JAG MARCH Premium-pdf
URL:https://fasttimesagility.com/event/agility-assoc-of-central-nj-jag-2/
LOCATION:Premier Sports Center\, LLC\, 3 Coleman Ct.\, Southampton\, NJ\, 08088\, United States
CATEGORIES:2022 AKC Agility Trial
ATTACH;FMTTYPE=image/gif:https://fasttimesagility.com/wp-content/uploads/2021/07/JAG-LOGO2.gif
END:VEVENT
END:VCALENDAR